BEGIN:VCALENDAR
PRODID:NingEventWidget-v1
VERSION:2.0
METHOD:PUBLISH
BEGIN:VTIMEZONE
TZID:Europe/Paris
X-LIC-LOCATION:Europe/Paris
BEGIN:DAYLIGHT
TZOFFSETFROM:+0100
TZOFFSETTO:+0200
TZNAME:CEST
DTSTART:19700329T020000
RRULE:FREQ=YEARLY;BYMONTH=3;BYDAY=-1SU
END:DAYLIGHT
BEGIN:STANDARD
TZOFFSETFROM:+0200
TZOFFSETTO:+0100
TZNAME:CET
DTSTART:19701025T030000
RRULE:FREQ=YEARLY;BYMONTH=10;BYDAY=-1SU
END:STANDARD
END:VTIMEZONE
BEGIN:VEVENT
UID:2485226:Event:1037152
DTSTAMP:20260421T113925Z
SUMMARY:\"L'ange passe\" - Qui a douté de la force de l'Amour ? Ils l
 'ont vu -  Debowska Productions
DESCRIPTION:Habitants de la région Toulousaine une sortie à ne pas m
 anquer pour finir votre semaine en beauté :                 
  \n                  Le 7 DECEMBRE de 18H00- 20H00\n     
 Cinéma Méga CGR - Zac du Grand Noble de Blagnac\n \nFILM & RENCONT
 RE Avec Nicole Dron\n« L’ange passe »\nL’ANGE PASSE « Qui a 
 douté de la force de l’Amour ? »\nIls l’ont vu…\nQuel beau m
 essage d'amour, de réconfort et d'espérance ! Et quelle beauté et p
 ureté dans ce film ! Il élève l'âme à un point inimaginable ! La 
 musique est sublime, les acteurs aussi.\nBande annonce : https://www.
 youtube.com/watch?v=cT1Mmdu0uOo&feature=player_embedded\nQuand on conn
 aît la magie de Lourdes, on ne peut qu'apprécier l'ambiance qui est 
 bien restituée.     \nParticipation : 10 Euros\nRéservations : 
 DEBOWSKA PRODUCTIONS   Tél O4 68 69 87 23 www.debowska.fr     
              contact@debowska.fr\n\nPar Debowska Productio
 ns : \nMalgorzata Debowska et Konstanty Udala.\n Nous résidons dan
 s une belle région située au sud de Carcassonne au sein du pays Cath
 are, dans le petit village de Rennes les bains.\nNous avons à notre a
 ctif une collection de plus de 300 documentaires abordant une gamme de
  sujets extrêmement large.\nNous réalisons également des longs mét
 rages de fiction, que nous produisons en format\nNumérique de haute q
 ualité, grâce à un savoir faire pluridisciplinaire qui nous permet 
 de faire\nBeaucoup avec de petits moyens\nNous achevons en ce moment m
 ême le montage de notre tout dernier\nFilm qui est notre 5ème long 
 métrage « AU DELA DE L’AMOUR, MON AMOUR. » \n\nPour plus d'inf
 ormation, aller sur https://epanews.fr/events/l-ange-passe-qui-a-dout-
 de-la-force-de-l-amour-ils-l-ont-vu
DTSTART;TZID=Europe/Paris:20121207T180000
DTEND;TZID=Europe/Paris:20121207T200000
CATEGORIES:31
LOCATION:Cinéma Méga CGR, ZAC du grand Noble de Blagnac
WEBSITE:https://maps.google.fr/maps?client=safari&q=Cinéma+CGR+de+Bla
 gnac+31+ZAC+du+grand+noble+de+Blagnac&oe=UTF-8&ie=UTF-8&hl=fr
URL:https://maps.google.fr/maps?client=safari&q=Cinéma+CGR+de+Blagnac
 +31+ZAC+du+grand+noble+de+Blagnac&oe=UTF-8&ie=UTF-8&hl=fr
CONTACT:O4 68 69 87 23
ORGANIZER:Debowska Productions
ATTACH;FMTTYPE="image/jpeg":
ATTENDEE;ROLE=REQ-PARTICIPANT;PARTSTAT=ACCEPTED;RSVP=TRUE;CN=AirFairy:
 https://epanews.fr/profile/AirFairy
END:VEVENT
END:VCALENDAR
