BEGIN:VCALENDAR
PRODID:NingEventWidget-v1
VERSION:2.0
METHOD:PUBLISH
BEGIN:VTIMEZONE
TZID:Europe/Paris
X-LIC-LOCATION:Europe/Paris
BEGIN:DAYLIGHT
TZOFFSETFROM:+0100
TZOFFSETTO:+0200
TZNAME:CEST
DTSTART:19700329T020000
RRULE:FREQ=YEARLY;BYMONTH=3;BYDAY=-1SU
END:DAYLIGHT
BEGIN:STANDARD
TZOFFSETFROM:+0200
TZOFFSETTO:+0100
TZNAME:CET
DTSTART:19701025T030000
RRULE:FREQ=YEARLY;BYMONTH=10;BYDAY=-1SU
END:STANDARD
END:VTIMEZONE
BEGIN:VEVENT
UID:2485226:Event:2677165
DTSTAMP:20260421T155219Z
SUMMARY:L'Amour et Nous
DESCRIPTION:Oser aimer et Ãªtre aimÃ©... Un chemin vers plus d'Amour d
 ans la relation.\nAvec Liliane van der Velde 3 jours de rencontre avec
  lâ€™Amour, avec soi et avec lâ€™autre.Â Â Â Â Â Â Â Â Â Â Â Â Â Â Â Â
  Â   Et si le bonheur dÃ©pendait de notre capacitÃ© Ã  aimer et Ã  rec
 evoir de lâ€™amour? Autour de pratiques douces et profondes, s'ouvrir 
 Ã  l'autre dans la prÃ©sence et le toucher, apprendre comment la relat
 ion peut devenir une terre d'accueil vivante pour exprimer notre vraie
  nature retrouver la joie du corps, se rÃ©concilier avec l'amour... Ce
  stage sâ€™adresse Ã  tous : hÃ©tÃ©ro et homosexuels ; couples, amis e
 t personnes seules.  Plus dâ€™infos http://www.nature-conscience-chama
 nisme.fr/tout-public/les-stages-de-developpement-personnel/271-l-amour
 -et-nous.html\n\nPour plus d'information, aller sur https://epanews.fr
 /events/l-amour-et-nous-1
DTSTART;TZID=Europe/Paris:20160812T000000
DTEND;TZID=Europe/Paris:20160814T235900
CATEGORIES:38
LOCATION:au gite Belles Ombres, Ã  Sainte Marie du Mont
WEBSITE:
URL:
CONTACT:
ORGANIZER;CN="Nature Conscience Chamanisme":https://epanews.fr/profile
 /NatureConscienceChamanisme
ATTACH;FMTTYPE="image/jpeg":http://storage.ning.com/topology/rest/1.0/
 file/get/1663583670?profile=original
ATTENDEE;ROLE=REQ-PARTICIPANT;PARTSTAT=ACCEPTED;RSVP=TRUE;CN="Nature C
 onscience Chamanisme":https://epanews.fr/profile/NatureConscienceChama
 nisme
END:VEVENT
END:VCALENDAR
