BEGIN:VCALENDAR
PRODID:NingEventWidget-v1
VERSION:2.0
METHOD:PUBLISH
BEGIN:VTIMEZONE
TZID:Europe/Paris
X-LIC-LOCATION:Europe/Paris
BEGIN:DAYLIGHT
TZOFFSETFROM:+0100
TZOFFSETTO:+0200
TZNAME:CEST
DTSTART:19700329T020000
RRULE:FREQ=YEARLY;BYMONTH=3;BYDAY=-1SU
END:DAYLIGHT
BEGIN:STANDARD
TZOFFSETFROM:+0200
TZOFFSETTO:+0100
TZNAME:CET
DTSTART:19701025T030000
RRULE:FREQ=YEARLY;BYMONTH=10;BYDAY=-1SU
END:STANDARD
END:VTIMEZONE
BEGIN:VEVENT
UID:2485226:Event:852719
DTSTAMP:20260421T212944Z
SUMMARY:L'Amour  -  Conf  Atelier
DESCRIPTION:ConfÃ©rence - Atelier\nL'Amour\nÂ \nA la recherche de cett
 e sensation d'Ãªtre aimÃ©(e)...\nLa notion d'amour est fondamentale. C
 'est notre raison d'Ãªtre. \nLes relations sont une formidable opportu
 nitÃ© pour connaÃ®tre oÃ¹ nous en sommes sur le chemin de l'Amour.\nQu
 elle est la nature du vÃ©ritable Amour ?\net\nQuelles sont les rÃ¨gles
  du jeu pour passer de l'attachement Ã  des relations Ã©clairÃ©es, plu
 s harmonieuses et pleines de sens ?\nJe vous donne rendez-vous pour qu
 elques clÃ©s et principes Ã  intÃ©grer dans votre vie quotidienne :\nÂ
  \nVendredi 22 juinÂ  Â Â  14h30 - 16h30Â  \nÂ paf : 10â‚¬\n\nPour plu
 s d'information, aller sur https://epanews.fr/events/l-amour-conf-atel
 ier-1
DTSTART;TZID=Europe/Paris:20120622T143000
DTEND;TZID=Europe/Paris:20120622T163000
CATEGORIES:34
LOCATION:Centre 665
WEBSITE:http://www.geraldinebergon.com
URL:http://www.geraldinebergon.com
CONTACT:06 11 01 05 34
ORGANIZER;CN=GÃ©raldine:https://epanews.fr/profile/Geraldine
ATTACH;FMTTYPE="image/jpeg":http://storage.ning.com/topology/rest/1.0/
 file/get/1662624152?profile=original
ATTENDEE;ROLE=REQ-PARTICIPANT;PARTSTAT=ACCEPTED;RSVP=TRUE;CN=GÃ©raldin
 e:https://epanews.fr/profile/Geraldine
END:VEVENT
END:VCALENDAR
