BEGIN:VCALENDAR
PRODID:NingEventWidget-v1
VERSION:2.0
METHOD:PUBLISH
BEGIN:VTIMEZONE
TZID:Europe/Paris
X-LIC-LOCATION:Europe/Paris
BEGIN:DAYLIGHT
TZOFFSETFROM:+0100
TZOFFSETTO:+0200
TZNAME:CEST
DTSTART:19700329T020000
RRULE:FREQ=YEARLY;BYMONTH=3;BYDAY=-1SU
END:DAYLIGHT
BEGIN:STANDARD
TZOFFSETFROM:+0200
TZOFFSETTO:+0100
TZNAME:CET
DTSTART:19701025T030000
RRULE:FREQ=YEARLY;BYMONTH=10;BYDAY=-1SU
END:STANDARD
END:VTIMEZONE
BEGIN:VEVENT
UID:2485226:Event:528758
DTSTAMP:20260422T052016Z
SUMMARY:\"L'Alchimie spirituelle\" par Allan Duke
DESCRIPTION:Ã€ lâ€™occasion de la sortie de sonÂ dernier livre Â« Lâ€™
 Ã‰veil des Anges. Le temps de lâ€™Ã©lÃ©vation Â»,\nAllan Duke vous inv
 ite Ã  une soirÃ©e ayant pour thÃ¨me ;  L'Alchimie spirituelle ou comm
 ent transposer la purification de la matiÃ¨re vers une purification de
  l'Ã¢me Ã  tiers.   En apparence, la vie n'a aucun sens et pourtant, i
 l est impossible qu'il n'y en ait pas un ! Albert Einstein   En effet,
  venir au monde pour mourir quelques dÃ©cennies plus tard n'a pas le m
 oindre sens !\nPourtant, il est inconcevable qu'il n'y ait aucune rÃ©p
 onse logique Ã  cette question fondamentale.   L'univers est parfait..
 . donc, logiquement, il en est de mÃªme concernant la mort !  Pour tro
 uver LA rÃ©ponse, il serait peut Ãªtre opportun dâ€™effectuer une rech
 erche au plus profond de notre Ãªtre, au cÅ“ur de notre conscience col
 lective et de retrouverÂ la source de l'ÃªtreÂ !  DÃ©couvrir avant tou
 t, ce que nous sommes rÃ©ellement...\nLa plus belle rÃ©ponse Ã©tant sa
 ns aucun doute celle de Carl Sagan ;\nPoussiÃ¨re d'Ã©toiles contemplan
 t les Ã©toiles. Nous sommes l'univers qui apprend Ã  se reconnaÃ®tre !
   La mortâ€¦\nÂ \nPourquoi continuer Ã  avoir peur de lâ€™Ã¢me hors !?
 \nLa peur... l'happeur, du verbe happer... attirer vers soi... drag-on
  (angl.)... Dragon !! (ahhhh, les mots)\nQuels sont les liens entre la
  peur de la mort et le Dragon ? Que reprÃ©sente cet animal mythique ai
 nsi que toutes ces lÃ©gendes qui en dÃ©coulent ?\nEn sachant que l'or 
 alchimiqueÂ est plus proche de l'aura (l'ora)Â que deÂ l'or (mÃ©tal pr
 Ã©cieux), comment devons nous comprendre ceÂ terme ; la mort... lâ€™Ã¢
 me horsâ€¦ l'Ã¢me-or !\nEn effet... le Dragon garde bel et bien un trÃ
 ©sor et ceÂ 13OR est liÃ© Ã  la lÃ©gende du Christ (12+1).\nOr... ouÂ 
 se cache leÂ 13OR ?Â Il est en fait,Â la ou l'OR loge (horloge).\nEn e
 ffet, le temps nous dÃ©vore tel un Dragon !\nComment comprendre le sec
 ret de l'immORtalitÃ© !?\nPeut Ãªtre que tout cela a un lien avec l'im
 mobilitÃ© ?\nImmobiliser quoi ?\nLa perception queÂ NOUS avons du temp
 s !!\nQue devons-nous comprendre Ã  travers l'expression... purifier l
 a matiÃ¨re (lâ€™Ã¢me Ã  tiers) !?\nEst-il possible de purifierÂ l'Ã¢me
  ?\nOu bien, est-il question de purifier l'EGO !?\nCe mot Ã©tant l'ana
 gramme parfaite de GEO, la racine pour indiquer le prÃ©nom GEORGE !!Â 
 \nGeorge & Dragon...\nÂ \nLe principe de l'Alchimie spirituelle propos
 Ã© par Allan DUKE explique tout cela et sera le sujet phare de cette s
 oirÃ©e qui sera appuyÃ© par une prÃ©sentation diaporama. Le tout saupo
 udrÃ© dâ€™une bonne dose d'humour.\nÂ \nParticipation Ã  la confÃ©renc
 e : 15 euros\nPS: Merci de rÃ©server votre place en envoyant un email 
 Ã  lebatondeparole@gmail.comLe code porte vous serra donnÃ© en retour.
 Site d'Allan Duke http://www.allanduke.com/\n\nPour plus d'information
 , aller sur https://epanews.fr/events/l-alchimie-spirituelle-par-allan
 -duke
DTSTART;TZID=Europe/Paris:20110922T200000
DTEND;TZID=Europe/Paris:20110922T223000
CATEGORIES:75
LOCATION:Paris
WEBSITE:http://lebatondeparole.ning.com/
URL:http://lebatondeparole.ning.com/
CONTACT:
ORGANIZER:Allan Duke
ATTACH;FMTTYPE="image/jpeg":http://storage.ning.com/topology/rest/1.0/
 file/get/1662461026?profile=original
ATTENDEE;ROLE=REQ-PARTICIPANT;PARTSTAT=ACCEPTED;RSVP=TRUE;CN="Damien G
 effroy":https://epanews.fr/profile/DamienGeffroy
END:VEVENT
END:VCALENDAR
