BEGIN:VCALENDAR
PRODID:NingEventWidget-v1
VERSION:2.0
METHOD:PUBLISH
BEGIN:VTIMEZONE
TZID:Europe/Paris
X-LIC-LOCATION:Europe/Paris
BEGIN:DAYLIGHT
TZOFFSETFROM:+0100
TZOFFSETTO:+0200
TZNAME:CEST
DTSTART:19700329T020000
RRULE:FREQ=YEARLY;BYMONTH=3;BYDAY=-1SU
END:DAYLIGHT
BEGIN:STANDARD
TZOFFSETFROM:+0200
TZOFFSETTO:+0100
TZNAME:CET
DTSTART:19701025T030000
RRULE:FREQ=YEARLY;BYMONTH=10;BYDAY=-1SU
END:STANDARD
END:VTIMEZONE
BEGIN:VEVENT
UID:2485226:Event:2070132
DTSTAMP:20260426T002253Z
SUMMARY:L'Afterwork des chefs d'entreprise/Décideurs/Porteurs de proj
 ets/Commerciaux/Assistantes de direction/Secrétaires
DESCRIPTION:\nVous souhaitez développer votre cercle de relations pro
 fessionnelles dans une ambiance détendue et conviviale, vous êtes po
 rteur de projets, vous souhaitez nous faire part de votre expérience.
 .. alors cette soirée est faite pour vous !   A travers une animation
  culinaire et une dégustation de vin, venez nous rejoindre lors de ce
 t afterwork ...   Ne la manquez pas et surtout venez avec vos cartes d
 e visite !   Infos et résa : evenementiel{@]moovit-events.fr   https:
 //www.facebook.com/events/591910324246688/\n\n\n\n\nPour plus d'inform
 ation, aller sur https://epanews.fr/events/l-afterwork-des-chefs-d-ent
 reprise-d-cideurs-porteurs-de-projet-2
DTSTART;TZID=Europe/Paris:20141028T193000
DTEND;TZID=Europe/Paris:20141029T020000
CATEGORIES:34
LOCATION:Montpellier
WEBSITE:
URL:
CONTACT:
ORGANIZER:Alexandra Joubert
ATTACH;FMTTYPE="image/jpeg":
ATTENDEE;ROLE=REQ-PARTICIPANT;PARTSTAT=ACCEPTED;RSVP=TRUE;CN=Alexdu38:
 https://epanews.fr/profile/Alexdu38
END:VEVENT
END:VCALENDAR
