BEGIN:VCALENDAR
PRODID:NingEventWidget-v1
VERSION:2.0
METHOD:PUBLISH
BEGIN:VTIMEZONE
TZID:Europe/Paris
X-LIC-LOCATION:Europe/Paris
BEGIN:DAYLIGHT
TZOFFSETFROM:+0100
TZOFFSETTO:+0200
TZNAME:CEST
DTSTART:19700329T020000
RRULE:FREQ=YEARLY;BYMONTH=3;BYDAY=-1SU
END:DAYLIGHT
BEGIN:STANDARD
TZOFFSETFROM:+0200
TZOFFSETTO:+0100
TZNAME:CET
DTSTART:19701025T030000
RRULE:FREQ=YEARLY;BYMONTH=10;BYDAY=-1SU
END:STANDARD
END:VTIMEZONE
BEGIN:VEVENT
UID:2485226:Event:1759748
DTSTAMP:20260421T071356Z
SUMMARY:Kundalini-yoga bilingue en francais et en russe
DESCRIPTION:Je vous propose de participer au cours de kundalini-yoga b
 ilingue en français et en russe, organisé par l'association de déve
 loppement personnel et echange culturel franco-russe \"Soznanie\". Nou
 s nous réunions ensemble pour pratiquer le yoga et la meditation, et 
 juste pour passer les moments agréables avec des personnes sur la mê
 me longeur d'onde:) Le cours se passe dans la salle de théâtre de Na
 tion, le prix d'atelier 15 euros par personne, 12 euros pour les mêmb
 res d'association.\n \n Nous allons continuer le cycle d'exercises c
 onsacrees aux centres energetiques (les chakras), et on va travailler 
 le 3-e chakra.  3ème chakra Manipura ou centre solaire, c’est le ce
 ntre de la volonté et du pouvoir. Ce chakra est relié à l’éléme
 nt feu. Ce centre véhicule l’affirmation du moi aux yeux du monde. 
 Dans son mode excessif, l’orgueil et la suffisance caractérisent un
  être dominé par ce centre. Ce centre concerne la zone de l’abdome
 n et la transformation des aliments par le feu en chaleur et en énerg
 ie qui vont régénérer l’ensemble de l’organisme.\n\nPour plus d
 'information, aller sur https://epanews.fr/events/kundalini-yoga-bilin
 gue-en-francais-et-en-russe
DTSTART;TZID=Europe/Paris:20140206T183000
DTEND;TZID=Europe/Paris:20140206T200000
CATEGORIES:75
LOCATION:Paris 11, salle de theatre Comedie Nation
WEBSITE:https://www.facebook.com/groups/yoga.ru.paris/
URL:https://www.facebook.com/groups/yoga.ru.paris/
CONTACT:
ORGANIZER;CN=Ekaterina:https://epanews.fr/profile/Ekaterina47
ATTACH;FMTTYPE="image/jpeg":http://storage.ning.com/topology/rest/1.0/
 file/get/1663043828?profile=original
ATTENDEE;ROLE=REQ-PARTICIPANT;PARTSTAT=ACCEPTED;RSVP=TRUE;CN=Ekaterina
 :https://epanews.fr/profile/Ekaterina47
END:VEVENT
END:VCALENDAR
