BEGIN:VCALENDAR
PRODID:NingEventWidget-v1
VERSION:2.0
METHOD:PUBLISH
BEGIN:VTIMEZONE
TZID:Europe/Paris
X-LIC-LOCATION:Europe/Paris
BEGIN:DAYLIGHT
TZOFFSETFROM:+0100
TZOFFSETTO:+0200
TZNAME:CEST
DTSTART:19700329T020000
RRULE:FREQ=YEARLY;BYMONTH=3;BYDAY=-1SU
END:DAYLIGHT
BEGIN:STANDARD
TZOFFSETFROM:+0200
TZOFFSETTO:+0100
TZNAME:CET
DTSTART:19701025T030000
RRULE:FREQ=YEARLY;BYMONTH=10;BYDAY=-1SU
END:STANDARD
END:VTIMEZONE
BEGIN:VEVENT
UID:2485226:Event:2990343
DTSTAMP:20260424T124010Z
SUMMARY:keltia
DESCRIPTION:Atelier de découverte du chamanisme celte\n\nPar l'expér
 imentation de l'ancrage, de la pose des protections, de la reliance au
 x énergies de lumière, la pratique de la méditation active, du voya
 ge chamanique, etc, venez découvrir le chamanisme celte, comprendre c
 omment sa pratique peut vous accompagner sur votre travail intérieur,
  amener toutes sortes de guérisons.\nPar Chantal Bouthier: je pratiqu
 e les soins chamaniques depuis huit ans, j'anime des stages depuis six
  ans qui mènent de la découverte à l'initiation en trois ans, avec 
 un important travail sur soi et des ateliers de découverte.\n\nPour p
 lus d'information, aller sur https://epanews.fr/events/keltia-1
DTSTART;TZID=Europe/Paris:20181201T093000
DTEND;TZID=Europe/Paris:20181201T133000
CATEGORIES:77
LOCATION:6 hameau de la Boisserotte, 77120 Saints
WEBSITE:
URL:
CONTACT:
ORGANIZER;CN=keltia:https://epanews.fr/profile/keltia
ATTACH;FMTTYPE="image/jpeg":
ATTENDEE;ROLE=REQ-PARTICIPANT;PARTSTAT=ACCEPTED;RSVP=TRUE;CN=keltia:ht
 tps://epanews.fr/profile/keltia
END:VEVENT
END:VCALENDAR
