BEGIN:VCALENDAR
PRODID:NingEventWidget-v1
VERSION:2.0
METHOD:PUBLISH
BEGIN:VTIMEZONE
TZID:Europe/Paris
X-LIC-LOCATION:Europe/Paris
BEGIN:DAYLIGHT
TZOFFSETFROM:+0100
TZOFFSETTO:+0200
TZNAME:CEST
DTSTART:19700329T020000
RRULE:FREQ=YEARLY;BYMONTH=3;BYDAY=-1SU
END:DAYLIGHT
BEGIN:STANDARD
TZOFFSETFROM:+0200
TZOFFSETTO:+0100
TZNAME:CET
DTSTART:19701025T030000
RRULE:FREQ=YEARLY;BYMONTH=10;BYDAY=-1SU
END:STANDARD
END:VTIMEZONE
BEGIN:VEVENT
UID:2485226:Event:1800626
DTSTAMP:20260422T091538Z
SUMMARY:Kazuhisa Ogawa, chaman-guÃ©risseur japonais
DESCRIPTION:Â \nAtelier exceptionnelÂ :\nÂ«Â KAZUHISA OGAWA, Chaman-Gu
 Ã©risseur JaponaisÂ : Enseignement et soins.Â Â»\nÂ \nKazuhisa Ogawa â
 €“ authentique Ninja et SamouraÃ¯- a Ã©tÃ© initiÃ© Ã  des traditions s
 ecrÃ¨tes et sacrÃ©es du Japon, de Chine, dâ€™Inde, du NÃ©pal et des Ph
 ilippines, puis a crÃ©Ã© sa propre technique de guÃ©rison nommÃ©e â€˜O
 ZNUâ€™, par laquelle il canalise de hautes Ã©nergies qui lui permetten
 t dâ€™offrir un vÃ©ritable soin du corps et de lâ€™Ã¢me. Dans ses atel
 iers, il dÃ©voile des techniques autrefois secrÃ¨tes de purification, 
 protection et recharge Ã©nergÃ©tique, que chaque participant pourra ut
 iliser dans son quotidien pour lui-mÃªme et ses proches. Dans une 2Ã¨ 
 partie, de courts soins sont offerts Ã  des personnes volontaires et u
 ne aura de guÃ©rison est crÃ©Ã©e pour le bÃ©nÃ©fice de chacun.\nÂ \nPa
 rticipationÂ : 35â‚¬ (25â‚¬ Ã©tudiants). Sur rÃ©servation (places limi
 tÃ©es): 06 67 32 13 64 ou par mailÂ : pascalecordebar@yahoo.fr.\n\nÂ \
 n\nPour plus d'information, aller sur https://epanews.fr/events/kazuhi
 sa-ogawa-chaman-gu-risseur-japonais-2
DTSTART;TZID=Europe/Paris:20140307T193000
DTEND;TZID=Europe/Paris:20140307T220000
CATEGORIES:69
LOCATION:Shamballa , quartier GuillotiÃ¨re
WEBSITE:http://http:chamanisme.eu
URL:http://http:chamanisme.eu
CONTACT:06 67 32 13 64
ORGANIZER;CN="Pascale-Richa Cordebar":https://epanews.fr/profile/Pasca
 leRichaCordebar
ATTACH;FMTTYPE="image/jpeg":http://storage.ning.com/topology/rest/1.0/
 file/get/1663068709?profile=original
ATTENDEE;ROLE=REQ-PARTICIPANT;PARTSTAT=ACCEPTED;RSVP=TRUE;CN="Pascale-
 Richa Cordebar":https://epanews.fr/profile/PascaleRichaCordebar
END:VEVENT
END:VCALENDAR
