BEGIN:VCALENDAR
PRODID:NingEventWidget-v1
VERSION:2.0
METHOD:PUBLISH
BEGIN:VTIMEZONE
TZID:Europe/Paris
X-LIC-LOCATION:Europe/Paris
BEGIN:DAYLIGHT
TZOFFSETFROM:+0100
TZOFFSETTO:+0200
TZNAME:CEST
DTSTART:19700329T020000
RRULE:FREQ=YEARLY;BYMONTH=3;BYDAY=-1SU
END:DAYLIGHT
BEGIN:STANDARD
TZOFFSETFROM:+0200
TZOFFSETTO:+0100
TZNAME:CET
DTSTART:19701025T030000
RRULE:FREQ=YEARLY;BYMONTH=10;BYDAY=-1SU
END:STANDARD
END:VTIMEZONE
BEGIN:VEVENT
UID:2485226:Event:2113550
DTSTAMP:20260423T201258Z
SUMMARY:Jumping Screens. \"Devenez acteur de votre vie, plus figurant 
 dans la vie des autres\"
DESCRIPTION:Â  Â  Â  Â  Â  Â  Â  Â  Â JUMPING SREENS\n\"Devenez acteur
  de votre vie, plus figurant dans la vie des autres\"\nÂ Imaginez fair
 e partie d'une Â merveilleuse famille de ThÃ©Ã¢tre ImplicatiF oÃ¹ vous
  partagerez vos extraordinaire points de vues sur lâ€™humanitÃ©. Ce pu
 bliqueÂ ;i vous acclame pour toute cette sincÃ©ritÃ©.\nNous avons tant
  Ã  partager du plus profond de notre cÅ“ur que lâ€™heure est venue de
  passer Ã  lâ€™action et dâ€™aider nos confrÃ¨res â€˜â€™normauxâ€™â€™ 
 Ã  travers des expressions ThÃ©Ã¢trales et ludiques\nUne Â heure et de
 mie de show pour un public qui veut vibrer dans cette vie avec vous.\n
 Le public impliquÃ© fait partie d 'une maniÃ¨re pacifique de nos histo
 ires\nConcrÃ¨tementÂ :\nLe groupe dâ€™Impro ImplicatifÂ  va improviser
  sur des sujets qui lui tient Ã  cÅ“ur et quâ€™il dÃ©sire partager. De
  ces multiples impros, on construira une trame dâ€™histoire pour prÃ©s
 enter au public. Un challenge pour sortir de cette routine du â€˜â€™Wo
 rkshoppingâ€™â€™. Â Au dÃ©but dans des scÃ¨nes ouvertes, jusquâ€™Ã  ce
  quâ€™a la qualitÃ© prÃ©sentÃ©e nous permettent dâ€™avoir notre premie
 r â€˜â€™cachetâ€™â€™. YoupiÂ !!! Chacun choisi jusquâ€™oÃ¹ il choisit 
 dâ€™aller dans ce projet, en respect avec lui-mÃªme.\nLe publicÂ : les
  acteursÂ  interagissent avec le public Â avec un maximum de respect.\
 nÂ Ce spectacle sâ€™adressera Ã  un public averti, dÃ©jÃ  par le nom d
 u spectacle et lâ€™envie de ne plus Ãªtre passif dans lâ€™information 
 quâ€™il reÃ§oit, comme au temps oÃ¹ il nâ€™y avait quâ€™une seule chai
 ne de TV.\nEquipÃ©s de deux â€˜â€™objets symbolesâ€™â€™ les spectateur
 s expriment leurs dÃ©sirs aux comÃ©diens. Un symbole reprÃ©sente je DÃ
 ©passe ma Zone de Confort Â (DZC)\nÂ Vous n'Ãªtes pas encore un profes
 sionnel du spectacleÂ ! Super,\nApprendre Ã  devenir acteur de thÃ©Ã¢t
 re d'impros participatifÂ  et ImplicatifÂ  câ€™est aussi dÃ©velopper n
 os potentiels qui sont souvent bridÃ© par les limites que lâ€™on sâ€™i
 mposer. Trouvons Â une alternative.\nVenez-vous surprendre dâ€™imagina
 tion et de bonheur dâ€™Ãªtre un autre vous-mÃªme.\nLes maÃ®tres-mots s
 ont: crÃ©ativitÃ©, entraide, sincÃ©ritÃ© dans le jeu de notre vie et l
 e respect du public.\nVous Ãªtes invitÃ©s Ã  participer activement ou 
 Ãªtre observateur jusquâ€™Ã  votre rÃ©veil.\nAteliers rÃ©guliers jusqu
 â€™Ã  libÃ©ration totale\nPlus dâ€™ infos: NÃ©o Clemente: Tel: 06 63 0
 7 32 62\nEmail: jumpingscreens@gmail.com\nJeudi 20 novembre Ã  Paris\n
 Heure: 19h00Â Ã  21hoo.Â  SVP soyez 15 minutes Ã  l'avance.\nChez Simo
 ne MorletÂ :\nPrix: 20 â‚¬ Â et 15 â‚¬ pour la premiÃ¨re participation
  Ã  Jumping Screens\nEn rÃ©servant vous aurez le code de la porte\nVou
 s pouvez inviter tous les amis que vous dÃ©sirez\nNÃ©o Clemente\nAyez 
 une idÃ©e sur le DCZ\nhttps://www.youtube.com/watch?v=47167WbgRtMÂ  en
  Anglais\n\n\n\n\n\n\n\n\nPour plus d'information, aller sur https://e
 panews.fr/events/jumping-screens-devenez-acteur-de-votre-vie-plus-figu
 rant-dans-la
DTSTART;TZID=Europe/Paris:20141120T210000
DTEND;TZID=Europe/Paris:20141120T220000
CATEGORIES:75
LOCATION:Paris.  19
WEBSITE:https://www.google.fr/maps/place/27+Rue+Rebeval,+75019+Paris/@
 48.8744415,2.3782126,17z/data=!3m1!4b1!4m2!3m1!1s0x47e66de7ea4fe80f:0x
 7bc98f262032c193?hl=fr
URL:https://www.google.fr/maps/place/27+Rue+Rebeval,+75019+Paris/@48.8
 744415,2.3782126,17z/data=!3m1!4b1!4m2!3m1!1s0x47e66de7ea4fe80f:0x7bc9
 8f262032c193?hl=fr
CONTACT:0663073262
ORGANIZER;CN="Clem Ange":https://epanews.fr/profile/ClementeAngelo
ATTACH;FMTTYPE="image/jpeg":http://storage.ning.com/topology/rest/1.0/
 file/get/1663249038?profile=original
ATTENDEE;ROLE=REQ-PARTICIPANT;PARTSTAT=ACCEPTED;RSVP=TRUE;CN="Clem Ang
 e":https://epanews.fr/profile/ClementeAngelo
END:VEVENT
END:VCALENDAR
