BEGIN:VCALENDAR
PRODID:NingEventWidget-v1
VERSION:2.0
METHOD:PUBLISH
BEGIN:VTIMEZONE
TZID:Europe/Paris
X-LIC-LOCATION:Europe/Paris
BEGIN:DAYLIGHT
TZOFFSETFROM:+0100
TZOFFSETTO:+0200
TZNAME:CEST
DTSTART:19700329T020000
RRULE:FREQ=YEARLY;BYMONTH=3;BYDAY=-1SU
END:DAYLIGHT
BEGIN:STANDARD
TZOFFSETFROM:+0200
TZOFFSETTO:+0100
TZNAME:CET
DTSTART:19701025T030000
RRULE:FREQ=YEARLY;BYMONTH=10;BYDAY=-1SU
END:STANDARD
END:VTIMEZONE
BEGIN:VEVENT
UID:2485226:Event:1867322
DTSTAMP:20260421T184345Z
SUMMARY:journee porte ouverte du centre emanessence
DESCRIPTION:Samedi 26 avril 2014, journée porte ouverte du centre ema
 nessence, 7 place d'Assas à Nîmes.\nUne journee Nîmes pour rencontr
 er des therapeutes, decouvrir leurs activites lors des ateliers propos
 es de 11h à 19h.\nYoga, médecine chinoise, réflexologie, énergéti
 que, somatotherapie, coaching, yoga de la voix, kinesiologie, sophrolo
 gie, massage du ventre\nEntree libre, participation 5€ l'atelier, 20
 € le pass journee.\nTout le programme detaillé sur www.emanessence.
 com\n07 81 71 88 75\n\nPour plus d'information, aller sur https://epan
 ews.fr/events/journee-porte-ouverte-du-centre-emanessence
DTSTART;TZID=Europe/Paris:20140426T110000
DTEND;TZID=Europe/Paris:20140426T190000
CATEGORIES:30
LOCATION:nimes
WEBSITE:
URL:
CONTACT:0781718875
ORGANIZER;CN="Isabelle Hubert":https://epanews.fr/profile/IsabelleHube
 rt
ATTACH;FMTTYPE="image/jpeg":
ATTENDEE;ROLE=REQ-PARTICIPANT;PARTSTAT=ACCEPTED;RSVP=TRUE;CN="Isabelle
  Hubert":https://epanews.fr/profile/IsabelleHubert
END:VEVENT
END:VCALENDAR
