BEGIN:VCALENDAR
PRODID:NingEventWidget-v1
VERSION:2.0
METHOD:PUBLISH
BEGIN:VTIMEZONE
TZID:Europe/Paris
X-LIC-LOCATION:Europe/Paris
BEGIN:DAYLIGHT
TZOFFSETFROM:+0100
TZOFFSETTO:+0200
TZNAME:CEST
DTSTART:19700329T020000
RRULE:FREQ=YEARLY;BYMONTH=3;BYDAY=-1SU
END:DAYLIGHT
BEGIN:STANDARD
TZOFFSETFROM:+0200
TZOFFSETTO:+0100
TZNAME:CET
DTSTART:19701025T030000
RRULE:FREQ=YEARLY;BYMONTH=10;BYDAY=-1SU
END:STANDARD
END:VTIMEZONE
BEGIN:VEVENT
UID:2485226:Event:1334919
DTSTAMP:20260420T103719Z
SUMMARY:Modification demandÃ©e
DESCRIPTION:Dimanche 5 mai 2013 Ã  11h ATELIER YOGA DU RIRE GRATUIT\ns
 ur les pelouses de la plage du Prado Statue de David - MARSEILLE\nUn Ã
 ©clat de rire gÃ©ant Une vague d'Ã©nergie et de bonne humeurâ€¦ ... Co
 urs animÃ© par Patricia suivi d'un pique-nique tirÃ© du sac\nOrganisÃ©
  pour la 3Ã¨me annÃ©e Ã  Marseille par lâ€™association En chemins\n\n\
 n\n\n\nPour plus d'information, aller sur https://epanews.fr/events/jo
 urnee-mondiale-du-rire
DTSTART;TZID=Europe/Paris:20130505T110000
DTEND;TZID=Europe/Paris:20130505T120000
CATEGORIES:13008
LOCATION:Sur la pelouse de la plage entre David et le poste de secours
WEBSITE:
URL:
CONTACT:
ORGANIZER;CN=scarabÃ©epatoune:https://epanews.fr/profile/scarabeepatou
 ne781
ATTACH;FMTTYPE="image/jpeg":http://storage.ning.com/topology/rest/1.0/
 file/get/1662826964?profile=original
ATTENDEE;ROLE=REQ-PARTICIPANT;PARTSTAT=ACCEPTED;RSVP=TRUE;CN=scarabÃ©e
 patoune:https://epanews.fr/profile/scarabeepatoune781
END:VEVENT
END:VCALENDAR
