BEGIN:VCALENDAR
PRODID:NingEventWidget-v1
VERSION:2.0
METHOD:PUBLISH
BEGIN:VTIMEZONE
TZID:Europe/Paris
X-LIC-LOCATION:Europe/Paris
BEGIN:DAYLIGHT
TZOFFSETFROM:+0100
TZOFFSETTO:+0200
TZNAME:CEST
DTSTART:19700329T020000
RRULE:FREQ=YEARLY;BYMONTH=3;BYDAY=-1SU
END:DAYLIGHT
BEGIN:STANDARD
TZOFFSETFROM:+0200
TZOFFSETTO:+0100
TZNAME:CET
DTSTART:19701025T030000
RRULE:FREQ=YEARLY;BYMONTH=10;BYDAY=-1SU
END:STANDARD
END:VTIMEZONE
BEGIN:VEVENT
UID:2485226:Event:48942
DTSTAMP:20260419T195928Z
SUMMARY:JOURNÉE MASSAGE
DESCRIPTION:Une journée pour prendre le temps de s'ouvrir à d'autres
  possibles, de se poser au calme, de découvrir le dialogue entre le p
 hysique et le psychique, de favoriser l'écoute de soi et de l'autre d
 ans le respect et la convivialité, d'apprendre une technique où le C
 orporel, l'Émotionnel et le Verbal s'enrichissent mutuellement pour a
 méliorer nos relations.\nTarif tout public : 90 euros.\nTarif épanew
 s spécial printemps : 72 euros.\nPlus d'information sur le site de l'
 Association :\nwww.les13portes.com\n\nPour plus d'information, aller s
 ur https://epanews.fr/events/journee-massage
DTSTART;TZID=Europe/Paris:20100509T093000
DTEND;TZID=Europe/Paris:20100509T173000
CATEGORIES:13
LOCATION:CENTRE DU MONT 13006 M° Notre Dame du Mont
WEBSITE:http://www.les13portes.com
URL:http://www.les13portes.com
CONTACT:0491482991
ORGANIZER;CN=VERGER:https://epanews.fr/profile/VERGER
ATTACH;FMTTYPE="image/jpeg":
ATTENDEE;ROLE=REQ-PARTICIPANT;PARTSTAT=ACCEPTED;RSVP=TRUE;CN=VERGER:ht
 tps://epanews.fr/profile/VERGER
END:VEVENT
END:VCALENDAR
