BEGIN:VCALENDAR
PRODID:NingEventWidget-v1
VERSION:2.0
METHOD:PUBLISH
BEGIN:VTIMEZONE
TZID:Europe/Paris
X-LIC-LOCATION:Europe/Paris
BEGIN:DAYLIGHT
TZOFFSETFROM:+0100
TZOFFSETTO:+0200
TZNAME:CEST
DTSTART:19700329T020000
RRULE:FREQ=YEARLY;BYMONTH=3;BYDAY=-1SU
END:DAYLIGHT
BEGIN:STANDARD
TZOFFSETFROM:+0200
TZOFFSETTO:+0100
TZNAME:CET
DTSTART:19701025T030000
RRULE:FREQ=YEARLY;BYMONTH=10;BYDAY=-1SU
END:STANDARD
END:VTIMEZONE
BEGIN:VEVENT
UID:2485226:Event:2215620
DTSTAMP:20260421T115405Z
SUMMARY:Journee du féminin Guérisseur à Montpellier
DESCRIPTION:   Journée du féminin Guérisseur à MontpellierBonjou
 r, Je vous invite à venir découvrir sur une journée d'initiation à
 la médecine des femmes guérisseuses à Montpellier Le dimanche 26 av
 ril 2015 chez Jocelynede 9H30 à 17H30Cette journée est née de mes i
 nspirations, lectures, intuitions ,ressenties .Depuis elle a navigué,
  de coeur à coeur, de femmes à femmesElle invite les femmes d ici et
  là à venir chercher, rencontrer, sentir et se reconnecter à la pui
 ssance de leur féminin guérisseurEn se re-connectant à nos énergie
 s féminines pour se soigner, comprendre nos humeurs, nos émotions, l
 ’histoire de notre corps et tous les outils qui peuvent nous accompa
 gner dans l’auto guérisonAutrefois les femmes connaissaient le lang
 age des plantes, fleurs, étoiles , pierres animaux... retrouvons nos 
 savoirs ancestraux et nos savoirs de guérisseuses.... la magie des fe
 mmes!Créons, fabriquons, chantons, prions, célébrons, méditions, h
 onorons nos forces féminines sacrées et divinesCelles qui nous uniss
 ent au ciel et à la terre;Réinventons notre féminin, le féminin de
 s femmes en chemin..Laissons la femme Shakti reprendre sa force et son
  pouvoir !Ces cercles sont créatifs et ludiques , entre femmes .Ils s
 ymbolise l'union , le partage entre toutes .Nous permettant de nous gu
 ider dans ce cheminRetrouverons la femme guérisseuse qui sommeille en
  nousLaissons prendre corps , forme et laissons nous guider par nous t
 outes**** Le programme du stage*****-Méditation de la femme guérisse
 use-Voyage au tambour- Câlin de soeurs-Rituel autour de l'eau et des 
 plantes-Danses des intentions-Cercles de paroles et de cartes- Mandala
 / land art-Body painting ou colorier la guérisseuse en vous- Chant et
  Clôture avec les huiles et élixirsParticipation à la journée 50 e
 uros/repas partagéInscriptions demandées ainsi que les arrhes info a
 uprés de Yaël 06 20 34 54 99http://lechantdesarbres.over-blog.com/20
 15/02/journee-du-feminin-guerisseur-a-montpellier.html\n\nPour plus d'
 information, aller sur https://epanews.fr/events/journee-du-f-minin-gu
 -risseur-montpellier
DTSTART;TZID=Europe/Paris:20150426T093000
DTEND;TZID=Europe/Paris:20150426T173000
CATEGORIES:34
LOCATION:Montpellier
WEBSITE:http://lechantdesarbres.over-blog.com
URL:http://lechantdesarbres.over-blog.com
CONTACT:06 20 34 54 99
ORGANIZER;CN=Yaël:https://epanews.fr/profile/yael
ATTACH;FMTTYPE="image/jpeg":http://storage.ning.com/topology/rest/1.0/
 file/get/1663322924?profile=original
ATTENDEE;ROLE=REQ-PARTICIPANT;PARTSTAT=ACCEPTED;RSVP=TRUE;CN=Yaël:htt
 ps://epanews.fr/profile/yael
END:VEVENT
END:VCALENDAR
