BEGIN:VCALENDAR
PRODID:NingEventWidget-v1
VERSION:2.0
METHOD:PUBLISH
BEGIN:VTIMEZONE
TZID:Europe/Paris
X-LIC-LOCATION:Europe/Paris
BEGIN:DAYLIGHT
TZOFFSETFROM:+0100
TZOFFSETTO:+0200
TZNAME:CEST
DTSTART:19700329T020000
RRULE:FREQ=YEARLY;BYMONTH=3;BYDAY=-1SU
END:DAYLIGHT
BEGIN:STANDARD
TZOFFSETFROM:+0200
TZOFFSETTO:+0100
TZNAME:CET
DTSTART:19701025T030000
RRULE:FREQ=YEARLY;BYMONTH=10;BYDAY=-1SU
END:STANDARD
END:VTIMEZONE
BEGIN:VEVENT
UID:2485226:Event:11889
DTSTAMP:20260420T001738Z
SUMMARY:JournÃ©e d'entrainement \"les 10 Principes Fondamentaux du Bie
 n-Ãªtre et du SuccÃ¨s
DESCRIPTION:C'est la rentrÃ©e, les journÃ©es coaching de vie avec L'Un
 ivers CitÃ© du Soi reprennent sur le dÃ©partement 13 Ã  partir du 20 S
 eptembre.\n\nPour plus d'info, retrouver le programme sur www.univers-
 cite-du-soi.com\n\n\n3 journÃ©es rÃ©servÃ©es aux femmes\nPour effectue
 r un rÃ©el travail de transformation\n\n1/ DÃ©couvrir les 10 principes
  fondamentaux du Bien Etre et du SuccÃ¨s\n\n2/ Reprendre contact avec 
 vous-mÃªme :\n\n- Reconnaitre votre puissance, vos talents, vos qualit
 Ã©s\n- DÃ©tecter les croyances qui vous dynamisent\n- Transformer les 
 croyances qui vous limitent\n- DÃ©tecter les freins, les peurs, les ap
 privoiser et/ou les dÃ©passer\n- Calmer votre Â«Â critique intÃ©rieurÂ
  Â Â»\n- Apprendre Ã  connecter votre guide intÃ©rieur; Ã  Ã©couter vo
 s intuitions\n- Prendre contact et utiliser vos ressources intÃ©rieure
 s\n\n\nSe sentir libre, joyeuse et dynamique ici et maintenant\n\n3/ T
 ravailler sur vos projets personnels:\n\n- Faire le point sur votre si
 tuation personnelle et/ou professionnelle,\n- DÃ©terminer clairement u
 n objectif personnel ou professionnel,\n- Vous positionner, reprendre 
 confiance,\n- Poser des actes, dÃ©finir les Ã©tapes,\n- Atteindre votr
 e objectif.\n\nPour plus d'information, aller sur https://epanews.fr/e
 vents/journee-dentrainement-les-10
DTSTART;TZID=Europe/Paris:20090920T000000
DTEND;TZID=Europe/Paris:20090920T235900
CATEGORIES:13
LOCATION:Atelier
WEBSITE:http://www.univers-cite-du-soi.com
URL:http://www.univers-cite-du-soi.com
CONTACT:06 22 34 89 23
ORGANIZER;CN=Corinne:https://epanews.fr/profile/DESCHAMPS
ATTACH;FMTTYPE="image/jpeg":
ATTENDEE;ROLE=REQ-PARTICIPANT;PARTSTAT=ACCEPTED;RSVP=TRUE;CN=Corinne:h
 ttps://epanews.fr/profile/DESCHAMPS
END:VEVENT
END:VCALENDAR
