BEGIN:VCALENDAR
PRODID:NingEventWidget-v1
VERSION:2.0
METHOD:PUBLISH
BEGIN:VTIMEZONE
TZID:Europe/Paris
X-LIC-LOCATION:Europe/Paris
BEGIN:DAYLIGHT
TZOFFSETFROM:+0100
TZOFFSETTO:+0200
TZNAME:CEST
DTSTART:19700329T020000
RRULE:FREQ=YEARLY;BYMONTH=3;BYDAY=-1SU
END:DAYLIGHT
BEGIN:STANDARD
TZOFFSETFROM:+0200
TZOFFSETTO:+0100
TZNAME:CET
DTSTART:19701025T030000
RRULE:FREQ=YEARLY;BYMONTH=10;BYDAY=-1SU
END:STANDARD
END:VTIMEZONE
BEGIN:VEVENT
UID:2485226:Event:11682
DTSTAMP:20260420T085129Z
SUMMARY:Journée de Tantra autogéré sur Montpellier
DESCRIPTION:Un groupe se réunit déjà sur Montpellier (plus exacteme
 nt à Fabrègues chez Eric et Jean François) tous les mois, le samedi
  toute la journée.\nLe groupe est mixte et nous essaierons de garder 
 la parité shiva/shakti. Nous sommes une vingtaine de personnes.\nChac
 un amène ses idées, ses envies et le plaisir de passer une journée 
 tantrique entre amis.\nLa participation financière est de 7€.\nSeul
  critère : avoir déjà fait du tantra,\nSi vous êtes intéressés p
 our pratiquer, en groupe, du tantra, inscrivez vous par mail si possib
 le auprès de Rémy ou Bakou à Bakoroure@aol.com\n\nPour plus d'infor
 mation, aller sur https://epanews.fr/events/journee-de-tantra-autogere
 -sur
DTSTART;TZID=Europe/Paris:20100501T000000
DTEND;TZID=Europe/Paris:20100501T235900
CATEGORIES:34, 30, 11
LOCATION:tantra
WEBSITE:
URL:
CONTACT:06 10 20 4000
ORGANIZER;CN="Eric LANGARET":https://epanews.fr/profile/EricLANGARET
ATTACH;FMTTYPE="image/jpeg":
ATTENDEE;ROLE=REQ-PARTICIPANT;PARTSTAT=ACCEPTED;RSVP=TRUE;CN="Eric LAN
 GARET":https://epanews.fr/profile/EricLANGARET
END:VEVENT
END:VCALENDAR
