BEGIN:VCALENDAR
PRODID:NingEventWidget-v1
VERSION:2.0
METHOD:PUBLISH
BEGIN:VTIMEZONE
TZID:Europe/Paris
X-LIC-LOCATION:Europe/Paris
BEGIN:DAYLIGHT
TZOFFSETFROM:+0100
TZOFFSETTO:+0200
TZNAME:CEST
DTSTART:19700329T020000
RRULE:FREQ=YEARLY;BYMONTH=3;BYDAY=-1SU
END:DAYLIGHT
BEGIN:STANDARD
TZOFFSETFROM:+0200
TZOFFSETTO:+0100
TZNAME:CET
DTSTART:19701025T030000
RRULE:FREQ=YEARLY;BYMONTH=10;BYDAY=-1SU
END:STANDARD
END:VTIMEZONE
BEGIN:VEVENT
UID:2485226:Event:205272
DTSTAMP:20260420T124559Z
SUMMARY:Journée d'aromathérapie familiale - 02 Mai 2011
DESCRIPTION:Cette journée a pour but de familiariser le grand public 
 à l’utilisation des huiles essentielles au sein de la famille. Pré
 sentée d’une manière conviviale, vivante et interactive cette form
 ation aborde un large panel de pathologies communes qu’il est facile
  de traiter par les huiles essentielles.Les huiles essentielles sont d
 e précieux outils dans le domaine de la santé, elles peuvent « soig
 ner », mais aussi être potentiellement toxiques. D’une manière pr
 ogressive et simple, Je vous fais découvrir de façon ludique les hui
 les essentielles, leurs fragrances, leurs activités et leurs dangers.
 Prix de la journée : 80,00 €Repas : 12,00 €Programme| Inscription
 | RenseignementWilliam BrumaudAromatologueTel: 06-21-91-23-59Mail : ar
 om.bellevue@orange.fr﻿\n\nPour plus d'information, aller sur https:/
 /epanews.fr/events/journee-daromatherapie-1
DTSTART;TZID=Europe/Paris:20110502T000000
DTEND;TZID=Europe/Paris:20110502T235900
CATEGORIES:24
LOCATION:Périgueux
WEBSITE:http://cathywil.free.fr
URL:http://cathywil.free.fr
CONTACT:0621912359
ORGANIZER;CN="William Brumaud":https://epanews.fr/profile/WilliamBruma
 ud
ATTACH;FMTTYPE="image/jpeg":http://storage.ning.com/topology/rest/1.0/
 file/get/1662385441?profile=original
ATTENDEE;ROLE=REQ-PARTICIPANT;PARTSTAT=ACCEPTED;RSVP=TRUE;CN="William 
 Brumaud":https://epanews.fr/profile/WilliamBrumaud
END:VEVENT
END:VCALENDAR
