BEGIN:VCALENDAR
PRODID:NingEventWidget-v1
VERSION:2.0
METHOD:PUBLISH
BEGIN:VTIMEZONE
TZID:Europe/Paris
X-LIC-LOCATION:Europe/Paris
BEGIN:DAYLIGHT
TZOFFSETFROM:+0100
TZOFFSETTO:+0200
TZNAME:CEST
DTSTART:19700329T020000
RRULE:FREQ=YEARLY;BYMONTH=3;BYDAY=-1SU
END:DAYLIGHT
BEGIN:STANDARD
TZOFFSETFROM:+0200
TZOFFSETTO:+0100
TZNAME:CET
DTSTART:19701025T030000
RRULE:FREQ=YEARLY;BYMONTH=10;BYDAY=-1SU
END:STANDARD
END:VTIMEZONE
BEGIN:VEVENT
UID:2485226:Event:1401802
DTSTAMP:20260422T191349Z
SUMMARY:Journées nationales du Qi gong
DESCRIPTION:Samedi 8 juin de 10h à 12h, je vous attends au Parc Maure
 au de Pélissanne, pour \"Renforcer notre énergie avec le Qi Gong\"\n
 Échauffements, démonstrations, partage sur la philosophie taoïste e
 t le qi gong.\nGratuit et ouvert à tous !\n\nPour plus d'information,
  aller sur https://epanews.fr/events/journ-es-nationales-du-qi-gong
DTSTART;TZID=Europe/Paris:20130608T100000
DTEND;TZID=Europe/Paris:20130608T130000
CATEGORIES:13330
LOCATION:Parc Maureau
WEBSITE:http://www.http.// destination-mieuxetre.org-overblog
URL:http://www.http.// destination-mieuxetre.org-overblog
CONTACT:0680675278
ORGANIZER;CN="Aviel Catherine":https://epanews.fr/profile/AvielCatheri
 ne
ATTACH;FMTTYPE="image/jpeg":http://storage.ning.com/topology/rest/1.0/
 file/get/1662858014?profile=original
ATTENDEE;ROLE=REQ-PARTICIPANT;PARTSTAT=ACCEPTED;RSVP=TRUE;CN="Aviel Ca
 therine":https://epanews.fr/profile/AvielCatherine
END:VEVENT
END:VCALENDAR
