BEGIN:VCALENDAR
PRODID:NingEventWidget-v1
VERSION:2.0
METHOD:PUBLISH
BEGIN:VTIMEZONE
TZID:Europe/Paris
X-LIC-LOCATION:Europe/Paris
BEGIN:DAYLIGHT
TZOFFSETFROM:+0100
TZOFFSETTO:+0200
TZNAME:CEST
DTSTART:19700329T020000
RRULE:FREQ=YEARLY;BYMONTH=3;BYDAY=-1SU
END:DAYLIGHT
BEGIN:STANDARD
TZOFFSETFROM:+0200
TZOFFSETTO:+0100
TZNAME:CET
DTSTART:19701025T030000
RRULE:FREQ=YEARLY;BYMONTH=10;BYDAY=-1SU
END:STANDARD
END:VTIMEZONE
BEGIN:VEVENT
UID:2485226:Event:2813645
DTSTAMP:20260426T060848Z
SUMMARY:Journées Initiatiques en Terre de Brocéliande
DESCRIPTION:De la chrysalide au papillon\nLa force de l'Intention ou l
 e pouvoir de l'Alchimie...\nQuand nous habitons totalement notre corps
 , nous avons accès à des ressources illimitées. Ces journées initi
 atiques, entre enseignements et pratiques, vous donnerons des outils p
 our développer vos pouvoirs énergétiques.\nProgramme :\nComment fo
 nctionnons-nous sur le plan énergétique ?\nL' interaction de nos pen
 sées avec notre environnement.\nPrendre conscience du flux d'énergie
  qui circule en chacun de nous.\nDévelopper nos pouvoirs créatifs.\n
 Gérer le mental pour accéder au calme intérieur et redécouvrir son
  plein potentiel...\nLes outils :\nVisualisations créatrices, activi
 tés psycho-corporelles, marche sensitive en forêt de Brocéliande, h
 armonisation du corps avec bols de cristal et bols tibétains...\n\nPo
 ur plus d'information, aller sur https://epanews.fr/events/journ-es-in
 itiatiques-en-terre-de-broc-liande
DTSTART;TZID=Europe/Paris:20170521T000000
DTEND;TZID=Europe/Paris:20170521T235900
CATEGORIES:35
LOCATION:Le Pont du Secret
WEBSITE:http://www.santedivine.com
URL:http://www.santedivine.com
CONTACT:06 85 86 98 74
ORGANIZER;CN=Lisa:https://epanews.fr/profile/Lisa99
ATTACH;FMTTYPE="image/jpeg":
ATTENDEE;ROLE=REQ-PARTICIPANT;PARTSTAT=ACCEPTED;RSVP=TRUE;CN=Lisa:http
 s://epanews.fr/profile/Lisa99
END:VEVENT
END:VCALENDAR
