BEGIN:VCALENDAR
PRODID:NingEventWidget-v1
VERSION:2.0
METHOD:PUBLISH
BEGIN:VTIMEZONE
TZID:Europe/Paris
X-LIC-LOCATION:Europe/Paris
BEGIN:DAYLIGHT
TZOFFSETFROM:+0100
TZOFFSETTO:+0200
TZNAME:CEST
DTSTART:19700329T020000
RRULE:FREQ=YEARLY;BYMONTH=3;BYDAY=-1SU
END:DAYLIGHT
BEGIN:STANDARD
TZOFFSETFROM:+0200
TZOFFSETTO:+0100
TZNAME:CET
DTSTART:19701025T030000
RRULE:FREQ=YEARLY;BYMONTH=10;BYDAY=-1SU
END:STANDARD
END:VTIMEZONE
BEGIN:VEVENT
UID:2485226:Event:2343770
DTSTAMP:20260422T153524Z
SUMMARY:Journée sur mesure avec coach de méditation orgasmique et PN
 L
DESCRIPTION:A Martres-Tolosane 31 (45 mn au sud de Toulouse, 1h de Tar
 bes)  2 Journées vers soi et l'autre  Samedi 13 juin, de 10h à 17h30
   Un atelier unique et sur mesure pour un voyage en groupe au cœur de
  l'intime. Le déroulement sera une alternance de cercles de paroles, 
 exercices sensoriels, corporels et introspectifs avec des enseignement
 s philosophiques issus de mon expérience.  Précédé d'un questionna
 ire et d'un entretien téléphonique individuel, l'atelier sera conçu
  à partir des information collectés.  Emmanuelle Duchesne a pour out
 ils la PNL et la Méditation Orgasmique. Elle se situe dans le mouveme
 nt du Slow Sex. Elle aime voir des couples lors de ses ateliers ou en 
 privé, les larmes aux yeux, dire qu'après avoir été ensembles pend
 ant des années, ils se sont sentis connectés comme jamais. Dans ce m
 oment hors du temps, vibrants, en résonance l'un avec l'autre. Quand 
 l'amour n'est plus un mot, mais un ressenti commun, quand l'orgasme n'
 est plus un instant mais un état.  Domaines de prédilection :  Senso
 rialité :  La présence, l’attention et la conscience pour intensi
 fier et enrichir nos perceptions sensorielles et gagner en sensibilit
  et cela dans la rencontre avec l’autre.  Communication :  L'impor
 tance d'une communication authentique, vivante, et vulnérable, clé d
 e l'intimité et de la confiance dans une relation. Apprenez à l’in
 staller et la cultiver.   Langage :  Utiliser le langage pour ancrer
  l’extraordinaire dans le quotidien. Le langage permet de reconnaît
 re, nommer, mémoriser, intégrer, communiquer et amplifier nos expér
 iences sensorielles en soi et en connexion avec les autres.  Connaissa
 nce de soi :  Des outils d’introspection pour mieux se connaître, 
 s’aligner, et choisir notre vie.  Dynamique masculin/féminin :  Je
  vois le masculin et le féminin comme deux polarités entre lesquelle
 s, quelque soit notre genre/sexe nous nous circulons sans cesse selon 
 les contextes, notre personnalité et notre conditionnement. Comprendr
 e cette dynamique permet une meilleur compréhension de soi et des aut
 res.  Importance du désir :  Demandes et tu recevras. Encore faut-il
  savoir ce que l'on désire, encore faut-il savoir le demander et acce
 pter de le recevoir. Ensuite nous pouvons utiliser notre désir comme 
 boussole et énergie pour avancer.   Vous pouvez venir seul.e ou acco
 mpagné.e. C'est un tremplin parfait pour savoir si vous voulez appren
 dre la méditation orgasmique et intégrer la communauté.  Je forme 
 dorénavant à la méditation orgasmique sur rendez-vous pour une ou d
 eux personnes selon les possibilités.   Infos et réservations : Emma
 nuelle au 06.64.03.27.36 / emacitad@gmail.com   Tarif de cette journ
 e : 80€ / 60€ pour ceux et celles que j’ai déjà formé.e.s à
  la Méditation Orgasmique et/ou pour pour ceux et celles qui restent 
 les 2 jours (samedi 13 et dimanche 14 juin)  Et pour ceux et celles qu
 i sont tenté.e.s par le Tantra :  Dimanche 14 juin, de 10h à 17h30  
 Journée “Tantra et massages tantriques”, pour débutant.e.s et in
 itié.e.s.  Toutes les infos sur : www.tantra-sudouest.com   Entreti
 en téléphonique nécessaire avant la première inscription : Nelly a
 u 06.51.02.08.16 / nelly.germain@sfr.fr / Facebook : Nelly Germain Sha
 kti Plaisir  Tarif de cette journée : 70€ / 130€ pour un binôme 
 paritaire  \n\nPour plus d'information, aller sur https://epanews.fr/
 events/journ-e-sur-mesure-avec-coach-de-m-ditation-orgasmique-et-pnl
DTSTART;TZID=Europe/Paris:20150613T000000
DTEND;TZID=Europe/Paris:20150613T235900
CATEGORIES:31
LOCATION:Martes-Tolosane
WEBSITE:http://www.meditationorgasmique.com
URL:http://www.meditationorgasmique.com
CONTACT:0664032736
ORGANIZER;CN=EmaOM:https://epanews.fr/profile/EmaOM
ATTACH;FMTTYPE="image/jpeg":http://storage.ning.com/topology/rest/1.0/
 file/get/1663411066?profile=original
ATTENDEE;ROLE=REQ-PARTICIPANT;PARTSTAT=ACCEPTED;RSVP=TRUE;CN=EmaOM:htt
 ps://epanews.fr/profile/EmaOM
END:VEVENT
END:VCALENDAR
