BEGIN:VCALENDAR
PRODID:NingEventWidget-v1
VERSION:2.0
METHOD:PUBLISH
BEGIN:VTIMEZONE
TZID:Europe/Paris
X-LIC-LOCATION:Europe/Paris
BEGIN:DAYLIGHT
TZOFFSETFROM:+0100
TZOFFSETTO:+0200
TZNAME:CEST
DTSTART:19700329T020000
RRULE:FREQ=YEARLY;BYMONTH=3;BYDAY=-1SU
END:DAYLIGHT
BEGIN:STANDARD
TZOFFSETFROM:+0200
TZOFFSETTO:+0100
TZNAME:CET
DTSTART:19701025T030000
RRULE:FREQ=YEARLY;BYMONTH=10;BYDAY=-1SU
END:STANDARD
END:VTIMEZONE
BEGIN:VEVENT
UID:2485226:Event:2085856
DTSTAMP:20260423T092950Z
SUMMARY:JournÃ©e \"Sensibilisation aux problÃ©matiques de survie : bas
 es contextuelles et thÃ©oriques + divers ateliers\" le 25 novembre 201
 4, prÃ¨s de Nice (Alpes-Maritimes)
DESCRIPTION:Module \"Sensibilisation aux problÃ©matiques de survie : b
 ases contextuelles et thÃ©oriques + divers ateliers\" - toute la journ
 Ã©e\n\nDÃ©tails du contenu ici : http://permaculture-sans-frontieres.o
 rg/module-sensibilisation-aux-problematiques-de-survie\n\nFormateur : 
 Philippe Caillaud (http://permaculture-sans-frontieres.org/philippe-ca
 illaud) ; assistant : Ã‰ric Escoffier (http://permaculture-sans-fronti
 eres.org/eric-escoffier).\n\nPrix : 55 â‚¬ la journÃ©e + 5 â‚¬ d'adhÃ©
 sion annuelle Ã  l'association si vous n'Ãªtes pas adhÃ©rent. 40 â‚¬ p
 our les personnes qui auront suivi les 11 jours de la formation prÃ©cÃ
 ©dente du mercredi 12 au dimanche 23 novembre (voirÂ http://epanews.fr
 /events/formation-permaculture-et-syst-mes-de-culture-r-g-n-ratifs-pr-
 s).\n\nToutes les infos pratiques sont dans notre calendrier sur :Â pe
 rmaculture-sans-frontieres.org/calendrier-formations\n_ _ _Â \nOrganis
 ation : par l'association \"Les Mains Sages - Permaculture\".\n_ _ _Â 
 \n\nAUSSI SUR FACEBOOK :\n*Â Formation : \"Permaculture et systÃ¨mes d
 e culture rÃ©gÃ©nÃ©ratifs\" - PrÃ¨s de Nice (Alpes-Maritimes) 11 jours
 Â :Â www.facebook.com/events/1532626136969851\n* JournÃ©e \"Balade bot
 anique et plantes sauvages comestibles\" le lundi 24/11 prÃ¨s de Carro
 s (Alpes-Maritimes) :Â www.facebook.com/events/898871270131749\n* Jour
 nÃ©e \"Sensibilisation aux problÃ©matiques de survie : bases contextue
 lles et thÃ©oriques + divers ateliers\" le 25/11, prÃ¨s de Nice (Alpes
 -Maritimes)Â www.facebook.com/events/374834292666407\n\nÂ \n\nPour plu
 s d'information, aller sur https://epanews.fr/events/journ-e-sensibili
 sation-aux-probl-matiques-de-survie-bases
DTSTART;TZID=Europe/Paris:20141125T090000
DTEND;TZID=Europe/Paris:20141125T183000
CATEGORIES:06
LOCATION:RÃ©gion de Carros (06510), prÃ¨s de Nice, Alpes-Maritimes
WEBSITE:http://permaculture-sans-frontieres.org/calendrier-formations
URL:http://permaculture-sans-frontieres.org/calendrier-formations
CONTACT:
ORGANIZER;CN="Eric Escoffier - Permaculture":https://epanews.fr/profil
 e/EricEscoffierPermaculture
ATTACH;FMTTYPE="image/jpeg":
ATTENDEE;ROLE=REQ-PARTICIPANT;PARTSTAT=ACCEPTED;RSVP=TRUE;CN="Eric Esc
 offier - Permaculture":https://epanews.fr/profile/EricEscoffierPermacu
 lture
END:VEVENT
END:VCALENDAR
