BEGIN:VCALENDAR
PRODID:NingEventWidget-v1
VERSION:2.0
METHOD:PUBLISH
BEGIN:VTIMEZONE
TZID:Europe/Paris
X-LIC-LOCATION:Europe/Paris
BEGIN:DAYLIGHT
TZOFFSETFROM:+0100
TZOFFSETTO:+0200
TZNAME:CEST
DTSTART:19700329T020000
RRULE:FREQ=YEARLY;BYMONTH=3;BYDAY=-1SU
END:DAYLIGHT
BEGIN:STANDARD
TZOFFSETFROM:+0200
TZOFFSETTO:+0100
TZNAME:CET
DTSTART:19701025T030000
RRULE:FREQ=YEARLY;BYMONTH=10;BYDAY=-1SU
END:STANDARD
END:VTIMEZONE
BEGIN:VEVENT
UID:2485226:Event:471771
DTSTAMP:20260423T215903Z
SUMMARY:Journée pour nos amis les arbres le 24 septembre 2011
DESCRIPTION:Journée pour nos amis les arbres\nle 24 septembre à 16 
 heures précises soyons nombreux\nà toucher, enlacer un arbre\nquel
 que soit le lieu\nen forêt, dans notre jardin, en ville, en pensée !
 \n\nVous qui aimez les arbres,\npuisez dans les racines de votre coeur
  !\nVenez signaler ici votre participation﻿, vos lieux de\nregroupem
 ent, vos impressions\n\nPour plus d'information, aller sur https://epa
 news.fr/events/journ-e-pour-nos-amis-les-arbres-le-24-septembre-2011
DTSTART;TZID=Europe/Paris:20110924T160000
DTEND;TZID=Europe/Paris:20110924T180000
CATEGORIES:tous
LOCATION:Toute la France
WEBSITE:
URL:
CONTACT:
ORGANIZER;CN=NITA:https://epanews.fr/profile/nita
ATTACH;FMTTYPE="image/jpeg":http://storage.ning.com/topology/rest/1.0/
 file/get/1662449169?profile=original
ATTENDEE;ROLE=REQ-PARTICIPANT;PARTSTAT=ACCEPTED;RSVP=TRUE;CN="Fée Arc
  en Ciel":https://epanews.fr/profile/ChantalLaFee
ATTENDEE;ROLE=REQ-PARTICIPANT;PARTSTAT=ACCEPTED;RSVP=TRUE;CN="Roland F
 ourcard":https://epanews.fr/profile/RolandFourcard
ATTENDEE;ROLE=REQ-PARTICIPANT;PARTSTAT=ACCEPTED;RSVP=TRUE;CN="Christop
 he Palma":https://epanews.fr/profile/ChristophePalma
ATTENDEE;ROLE=REQ-PARTICIPANT;PARTSTAT=ACCEPTED;RSVP=TRUE;CN=joel:http
 s://epanews.fr/profile/JUSTICE
ATTENDEE;ROLE=REQ-PARTICIPANT;PARTSTAT=ACCEPTED;RSVP=TRUE;CN="marianne
  tatar":https://epanews.fr/profile/mariannetatar
ATTENDEE;ROLE=REQ-PARTICIPANT;PARTSTAT=ACCEPTED;RSVP=TRUE;CN="Véroniq
 ue Carreel":https://epanews.fr/profile/VeroniqueCarreel
ATTENDEE;ROLE=REQ-PARTICIPANT;PARTSTAT=ACCEPTED;RSVP=TRUE;CN=Feuille:h
 ttps://epanews.fr/profile/caron
ATTENDEE;ROLE=REQ-PARTICIPANT;PARTSTAT=ACCEPTED;RSVP=TRUE;CN="Maryse G
 ilbert":https://epanews.fr/profile/MaryseGilbert525
ATTENDEE;ROLE=REQ-PARTICIPANT;PARTSTAT=ACCEPTED;RSVP=TRUE;CN="Le Solei
 l":https://epanews.fr/profile/LeSoleil
ATTENDEE;ROLE=REQ-PARTICIPANT;PARTSTAT=ACCEPTED;RSVP=TRUE;CN=Hélène:
 https://epanews.fr/profile/HeleneC
ATTENDEE;ROLE=REQ-PARTICIPANT;PARTSTAT=ACCEPTED;RSVP=TRUE;CN=Licorne:h
 ttps://epanews.fr/profile/HELIAN
ATTENDEE;ROLE=REQ-PARTICIPANT;PARTSTAT=ACCEPTED;RSVP=TRUE;CN="Véroniq
 ue Roger":https://epanews.fr/profile/VeroniqueRoger
ATTENDEE;ROLE=REQ-PARTICIPANT;PARTSTAT=ACCEPTED;RSVP=TRUE;CN="NEURAY S
 andrine":https://epanews.fr/profile/NEURAYSandrine
ATTENDEE;ROLE=REQ-PARTICIPANT;PARTSTAT=ACCEPTED;RSVP=TRUE;CN="gomelet 
  odile":https://epanews.fr/profile/gomeletodile
ATTENDEE;ROLE=REQ-PARTICIPANT;PARTSTAT=ACCEPTED;RSVP=TRUE;CN=Julie:htt
 ps://epanews.fr/profile/Julie
ATTENDEE;ROLE=REQ-PARTICIPANT;PARTSTAT=ACCEPTED;RSVP=TRUE;CN=YSA:https
 ://epanews.fr/profile/LABORIE
ATTENDEE;ROLE=REQ-PARTICIPANT;PARTSTAT=ACCEPTED;RSVP=TRUE;CN="marie co
 uleur":https://epanews.fr/profile/mariecouleur
ATTENDEE;ROLE=REQ-PARTICIPANT;PARTSTAT=ACCEPTED;RSVP=TRUE;CN=solacy:ht
 tps://epanews.fr/profile/solacy
ATTENDEE;ROLE=REQ-PARTICIPANT;PARTSTAT=ACCEPTED;RSVP=TRUE;CN=IMAGE:htt
 ps://epanews.fr/profile/IMAGE
ATTENDEE;ROLE=REQ-PARTICIPANT;PARTSTAT=ACCEPTED;RSVP=TRUE;CN=Odile:htt
 ps://epanews.fr/profile/Odile
ATTENDEE;ROLE=REQ-PARTICIPANT;PARTSTAT=ACCEPTED;RSVP=TRUE;CN=christi:h
 ttps://epanews.fr/profile/ChristinePicard
ATTENDEE;ROLE=REQ-PARTICIPANT;PARTSTAT=ACCEPTED;RSVP=TRUE;CN="Quantik 
 univers":https://epanews.fr/profile/candydubois
ATTENDEE;ROLE=REQ-PARTICIPANT;PARTSTAT=ACCEPTED;RSVP=TRUE;CN="françoi
 se, association Ana'ag":https://epanews.fr/profile/francoiseassociatio
 nAnaag
ATTENDEE;ROLE=REQ-PARTICIPANT;PARTSTAT=ACCEPTED;RSVP=TRUE;CN=ROY:https
 ://epanews.fr/profile/ROY
ATTENDEE;ROLE=REQ-PARTICIPANT;PARTSTAT=ACCEPTED;RSVP=TRUE;CN="Shella K
 iliza":https://epanews.fr/profile/ShellaKiliza
ATTENDEE;ROLE=REQ-PARTICIPANT;PARTSTAT=ACCEPTED;RSVP=TRUE;CN="OLEK Agn
 ès":https://epanews.fr/profile/OLEKAgnes
ATTENDEE;ROLE=REQ-PARTICIPANT;PARTSTAT=ACCEPTED;RSVP=TRUE;CN=dany:http
 s://epanews.fr/profile/schillingdanielle
ATTENDEE;ROLE=REQ-PARTICIPANT;PARTSTAT=ACCEPTED;RSVP=TRUE;CN="CARLUS S
 andrine":https://epanews.fr/profile/CARLUSSandrine
ATTENDEE;ROLE=REQ-PARTICIPANT;PARTSTAT=ACCEPTED;RSVP=TRUE;CN="veroniqu
 e SEBASTIEN":https://epanews.fr/profile/veroniqueSEBASTIEN
ATTENDEE;ROLE=REQ-PARTICIPANT;PARTSTAT=ACCEPTED;RSVP=TRUE;CN=cazelles:
 https://epanews.fr/profile/cazelles
ATTENDEE;ROLE=REQ-PARTICIPANT;PARTSTAT=ACCEPTED;RSVP=TRUE;CN="Lumière
  Zen":https://epanews.fr/profile/LumiereZen
ATTENDEE;ROLE=REQ-PARTICIPANT;PARTSTAT=ACCEPTED;RSVP=TRUE;CN=Maryanig:
 https://epanews.fr/profile/MaryanigKERBOUL
ATTENDEE;ROLE=REQ-PARTICIPANT;PARTSTAT=ACCEPTED;RSVP=TRUE;CN=GODARD:ht
 tps://epanews.fr/profile/GODARD
ATTENDEE;ROLE=REQ-PARTICIPANT;PARTSTAT=ACCEPTED;RSVP=TRUE;CN="Anne Cre
 vaux":https://epanews.fr/profile/AnneCrevaux
ATTENDEE;ROLE=REQ-PARTICIPANT;PARTSTAT=ACCEPTED;RSVP=TRUE;CN="daniel b
 rassard":https://epanews.fr/profile/danielbrassard
ATTENDEE;ROLE=REQ-PARTICIPANT;PARTSTAT=ACCEPTED;RSVP=TRUE;CN="mossé m
 arie-laure":https://epanews.fr/profile/mossemarielaure
ATTENDEE;ROLE=REQ-PARTICIPANT;PARTSTAT=ACCEPTED;RSVP=TRUE;CN=PRISCA:ht
 tps://epanews.fr/profile/Smartgirl
ATTENDEE;ROLE=REQ-PARTICIPANT;PARTSTAT=ACCEPTED;RSVP=TRUE;CN=Chetana:h
 ttps://epanews.fr/profile/ChetanaAnquetil
ATTENDEE;ROLE=REQ-PARTICIPANT;PARTSTAT=ACCEPTED;RSVP=TRUE;CN="Laurent 
 Baldovino":https://epanews.fr/profile/LaurentBaldovino
ATTENDEE;ROLE=REQ-PARTICIPANT;PARTSTAT=ACCEPTED;RSVP=TRUE;CN="Eric Beh
 oteguy Hypno-Magnétisme":https://epanews.fr/profile/EricBehoteguy
ATTENDEE;ROLE=REQ-PARTICIPANT;PARTSTAT=ACCEPTED;RSVP=TRUE;CN=Presence:
 https://epanews.fr/profile/Presence
ATTENDEE;ROLE=REQ-PARTICIPANT;PARTSTAT=ACCEPTED;RSVP=TRUE;CN="jean pau
 l ANADO":https://epanews.fr/profile/anadoMULOT
ATTENDEE;ROLE=REQ-PARTICIPANT;PARTSTAT=ACCEPTED;RSVP=TRUE;CN="Pierre c
 ordiamoris":https://epanews.fr/profile/Pierrecordiamoris
ATTENDEE;ROLE=REQ-PARTICIPANT;PARTSTAT=ACCEPTED;RSVP=TRUE;CN="isabelle
  Rose":https://epanews.fr/profile/isabelleRose
ATTENDEE;ROLE=REQ-PARTICIPANT;PARTSTAT=ACCEPTED;RSVP=TRUE;CN="BERNAHRT
  AGNES":https://epanews.fr/profile/BERNAHRTAGNES
ATTENDEE;ROLE=REQ-PARTICIPANT;PARTSTAT=ACCEPTED;RSVP=TRUE;CN=molina:ht
 tps://epanews.fr/profile/molina
ATTENDEE;ROLE=REQ-PARTICIPANT;PARTSTAT=ACCEPTED;RSVP=TRUE;CN="Isabelle
  FERCHAUD":https://epanews.fr/profile/IsabelleFERCHAUD
ATTENDEE;ROLE=REQ-PARTICIPANT;PARTSTAT=ACCEPTED;RSVP=TRUE;CN="Monique 
 Estienne":https://epanews.fr/profile/MoniqueEstienne
ATTENDEE;ROLE=REQ-PARTICIPANT;PARTSTAT=ACCEPTED;RSVP=TRUE;CN=Pacou:htt
 ps://epanews.fr/profile/pacou
ATTENDEE;ROLE=REQ-PARTICIPANT;PARTSTAT=ACCEPTED;RSVP=TRUE;CN=NITA:http
 s://epanews.fr/profile/nita
ATTENDEE;ROLE=REQ-PARTICIPANT;PARTSTAT=TENTATIVE;RSVP=TRUE;CN=harmony:
 https://epanews.fr/profile/harmony
ATTENDEE;ROLE=REQ-PARTICIPANT;PARTSTAT=TENTATIVE;RSVP=TRUE;CN="Eric Vi
 ssouze":https://epanews.fr/profile/EricVissouze
ATTENDEE;ROLE=REQ-PARTICIPANT;PARTSTAT=TENTATIVE;RSVP=TRUE;CN="Sylvie 
 Rosselin":https://epanews.fr/profile/SylvieRosselin
END:VEVENT
END:VCALENDAR
