BEGIN:VCALENDAR
PRODID:NingEventWidget-v1
VERSION:2.0
METHOD:PUBLISH
BEGIN:VTIMEZONE
TZID:Europe/Paris
X-LIC-LOCATION:Europe/Paris
BEGIN:DAYLIGHT
TZOFFSETFROM:+0100
TZOFFSETTO:+0200
TZNAME:CEST
DTSTART:19700329T020000
RRULE:FREQ=YEARLY;BYMONTH=3;BYDAY=-1SU
END:DAYLIGHT
BEGIN:STANDARD
TZOFFSETFROM:+0200
TZOFFSETTO:+0100
TZNAME:CET
DTSTART:19701025T030000
RRULE:FREQ=YEARLY;BYMONTH=10;BYDAY=-1SU
END:STANDARD
END:VTIMEZONE
BEGIN:VEVENT
UID:2485226:Event:500100
DTSTAMP:20260422T193248Z
SUMMARY:Journée Portes Ouvertes de l'Espace Osada
DESCRIPTION:C'est la rentrée, l'Espace Osada donne le coup d'envoi de
  ses activités 2011/2012:Journées Portes Ouvertes les 17 et 18 septe
 mbre 2011de 10h à 18hFaites le choix de venir nous voir, ou de faire 
 découvrir ce lieu à vos amis praticiens de bien-être. \n\nPour plus
  d'information, aller sur https://epanews.fr/events/journ-e-portes-ouv
 ertes-de-l-espace-osada
DTSTART;TZID=Europe/Paris:20110917T100000
DTEND;TZID=Europe/Paris:20110918T180000
CATEGORIES:75
LOCATION:Paris
WEBSITE:http://www.espaceosada.fr
URL:http://www.espaceosada.fr
CONTACT:06 81 3355 80
ORGANIZER;CN=Max:https://epanews.fr/profile/MaximeRatie
ATTACH;FMTTYPE="image/jpeg":http://storage.ning.com/topology/rest/1.0/
 file/get/1662454479?profile=original
ATTENDEE;ROLE=REQ-PARTICIPANT;PARTSTAT=ACCEPTED;RSVP=TRUE;CN=Max:https
 ://epanews.fr/profile/MaximeRatie
ATTENDEE;ROLE=REQ-PARTICIPANT;PARTSTAT=TENTATIVE;RSVP=TRUE;CN=fleurder
 ose:https://epanews.fr/profile/fleurderose
ATTENDEE;ROLE=REQ-PARTICIPANT;PARTSTAT=TENTATIVE;RSVP=TRUE;CN="perce n
 eige":https://epanews.fr/profile/perceneige
END:VEVENT
END:VCALENDAR
