BEGIN:VCALENDAR
PRODID:NingEventWidget-v1
VERSION:2.0
METHOD:PUBLISH
BEGIN:VTIMEZONE
TZID:Europe/Paris
X-LIC-LOCATION:Europe/Paris
BEGIN:DAYLIGHT
TZOFFSETFROM:+0100
TZOFFSETTO:+0200
TZNAME:CEST
DTSTART:19700329T020000
RRULE:FREQ=YEARLY;BYMONTH=3;BYDAY=-1SU
END:DAYLIGHT
BEGIN:STANDARD
TZOFFSETFROM:+0200
TZOFFSETTO:+0100
TZNAME:CET
DTSTART:19701025T030000
RRULE:FREQ=YEARLY;BYMONTH=10;BYDAY=-1SU
END:STANDARD
END:VTIMEZONE
BEGIN:VEVENT
UID:2485226:Event:909667
DTSTAMP:20260421T202330Z
SUMMARY:Journée Portes ouvertes au Jardin Intérieur
DESCRIPTION:Le dynamisme est de rigueur au \"Jardin Intérieur\", atel
 iers, conférences, débats et participation de tous les intervenants
  du J.I . Feldenkrais, Méthode ESPERE, Massage Sensitif, Ayurvéda, Y
 oga, Chant, Sophrologie, Naturopathie, Coiffure énergétique, Lithoth
 érapie et bien d'autres encore...\n\nPour plus d'information, aller s
 ur https://epanews.fr/events/journ-e-portes-ouvertes-au-jardin-int-rie
 ur
DTSTART;TZID=Europe/Paris:20120915T000000
DTEND;TZID=Europe/Paris:20120915T235900
CATEGORIES:69
LOCATION:Villefranche sur Saône
WEBSITE:
URL:
CONTACT:0688250037
ORGANIZER:JARDIN INTERIEUR
ATTACH;FMTTYPE="image/jpeg":
ATTENDEE;ROLE=REQ-PARTICIPANT;PARTSTAT=ACCEPTED;RSVP=TRUE;CN=CLOVIS:ht
 tps://epanews.fr/profile/CLOVIS898
END:VEVENT
END:VCALENDAR
