BEGIN:VCALENDAR
PRODID:NingEventWidget-v1
VERSION:2.0
METHOD:PUBLISH
BEGIN:VTIMEZONE
TZID:Europe/Paris
X-LIC-LOCATION:Europe/Paris
BEGIN:DAYLIGHT
TZOFFSETFROM:+0100
TZOFFSETTO:+0200
TZNAME:CEST
DTSTART:19700329T020000
RRULE:FREQ=YEARLY;BYMONTH=3;BYDAY=-1SU
END:DAYLIGHT
BEGIN:STANDARD
TZOFFSETFROM:+0200
TZOFFSETTO:+0100
TZNAME:CET
DTSTART:19701025T030000
RRULE:FREQ=YEARLY;BYMONTH=10;BYDAY=-1SU
END:STANDARD
END:VTIMEZONE
BEGIN:VEVENT
UID:2485226:Event:1451083
DTSTAMP:20260420T005737Z
SUMMARY:Journée Portes Ouvertes
DESCRIPTION:Venez découvrir gratuitement les activités d’I FEEL GO
 OD, au programme:\n- 2 cours de yoga doux en petit groupe à 11h et 
 14h. Réservation obligatoire paremail, nombre de places limitées. Pr
 évoyez une tenue confortable et une serviette ou un tissu pour recouv
 rir le tapis de yoga qui est fourni.\n- Dégustation d’un thé indie
 n à 16h avec questions-réponses sur nos ateliers, nos séances ind
 ividuelles de coaching, d’hypnose, de relaxation profonde, de yog
 a thérapie,… L’adresse exacte sera donnée par email. Nous somme
 s disponibles pour toute autre question. Merci et à bientôt!\n\nPour
  plus d'information, aller sur https://epanews.fr/events/journ-e-porte
 s-ouvertes-1
DTSTART;TZID=Europe/Paris:20130914T110000
DTEND;TZID=Europe/Paris:20130914T170000
CATEGORIES:75
LOCATION:I FEEL GOOD
WEBSITE:http://ifeelgood.fr
URL:http://ifeelgood.fr
CONTACT:
ORGANIZER:I Feel Good
ATTACH;FMTTYPE="image/jpeg":http://storage.ning.com/topology/rest/1.0/
 file/get/1662886456?profile=original
ATTENDEE;ROLE=REQ-PARTICIPANT;PARTSTAT=ACCEPTED;RSVP=TRUE;CN=Anandani:
 https://epanews.fr/profile/Anandani
END:VEVENT
END:VCALENDAR
