BEGIN:VCALENDAR
PRODID:NingEventWidget-v1
VERSION:2.0
METHOD:PUBLISH
BEGIN:VTIMEZONE
TZID:Europe/Paris
X-LIC-LOCATION:Europe/Paris
BEGIN:DAYLIGHT
TZOFFSETFROM:+0100
TZOFFSETTO:+0200
TZNAME:CEST
DTSTART:19700329T020000
RRULE:FREQ=YEARLY;BYMONTH=3;BYDAY=-1SU
END:DAYLIGHT
BEGIN:STANDARD
TZOFFSETFROM:+0200
TZOFFSETTO:+0100
TZNAME:CET
DTSTART:19701025T030000
RRULE:FREQ=YEARLY;BYMONTH=10;BYDAY=-1SU
END:STANDARD
END:VTIMEZONE
BEGIN:VEVENT
UID:2485226:Event:1026419
DTSTAMP:20260424T150735Z
SUMMARY:JournÃ©e porte ouverte Ã  Palette-Ã‰toile le 23 Novembre 2012
DESCRIPTION:\n\n\n\n\n\nPalette-Ã‰toile est un espace dÃ©diÃ© au resso
 urcement, Ã  la crÃ©ativitÃ© et au dÃ©veloppement personnelExposition 
 de mandalas, ateliers gratuits, consultations rapidesPROGRAMME* Exposi
 tion de mandalasÂ  rÃ©alisÃ©s Par HÃ©lÃ¨ne Meyrand * PrÃ©sentation des
  activitÃ©s de Palette-Ã‰toile : Ã  14h15* SÃ©ances courte individuell
 es* : Ã  partir de 14h30Â  (* Tarif Â«Â porte ouverteÂ Â» pour les con
 sultations et sÃ©ances : 8 â‚¬)- Revitalisation Ã©nergÃ©tique par le R
 eikiÂ  (sÃ©ance de 15 mn)Â Â Â Â Â Â Â Â Â Â Â Â Â Â Â Â Â  Â Â Â Â Â 
  avec Marie-Line Sadot, sophrologue, enseignante en Reiki,Â Â Â Â Â Â 
 Â Â Â Â Â Â Â Â Â  Â Â Â Â Â  animatrice de rire, peintre autodidacte,
  crÃ©atrice de Palette-Ã‰toile.- Tarot Ã©nergÃ©tique (consultation dÃ©
 couverte : 1 question-rÃ©ponse)Â Â Â Â  avec Francine de Rueda, thÃ©ra
 peute Ã©nergÃ©ticienne.Â Â Â Â Â Â Â Â Â Â Â Â Â Â Â Â Â Â Â Â Â Â Â Â
  Â  Â - Harmonisation olfactiveÂ  (sÃ©ance dÃ©couverte 20 mn)Â Â Â Â  
 avec Thierry Petitbon, conseiller en harmonisation olfactive.Â Â Â Â Â
  Â Â Â Â  Â - Massage Kansu avec bol tibÃ©tainÂ  (sÃ©ance dÃ©couverte)
 Â  Â Â Â Â Â  avec Michelle Bay, praticienne en massages de bien-Ãªtre
 . (Le massage proposÃ© vise le bien-Ãªtre et son but est non-thÃ©rapeu
 tique) Â Â Â Â Â Â  * Ateliers-dÃ©couvertes gratuits (groupes de 6 Ã  
 12 personnes) :- Astrologie vivante : Ã  15h (durÃ©e 1h), avec Francin
 e de Rueda- Relaxation olfactive : Ã  16h30 (durÃ©e 45 mn), avec Thier
 ry Petitbon- Yoga du rire : Ã  18h (durÃ©e 50 mn), avec Marie-Line Sad
 ot\n\n\nPour plus d'information, aller sur https://epanews.fr/events/j
 ourn-e-porte-ouverte-palette-toile-le-23-novembre-2012
DTSTART;TZID=Europe/Paris:20121123T140000
DTEND;TZID=Europe/Paris:20121123T190000
CATEGORIES:69
LOCATION:Lyon - Villeurbanne  (mÃ©tro Charpennes)
WEBSITE:
URL:
CONTACT:
ORGANIZER:Palette-Ã‰toile
ATTACH;FMTTYPE="image/jpeg":http://storage.ning.com/topology/rest/1.0/
 file/get/1662699308?profile=original
ATTENDEE;ROLE=REQ-PARTICIPANT;PARTSTAT=ACCEPTED;RSVP=TRUE;CN="CÃ©cile 
 Cub":https://epanews.fr/profile/CecileCUBIZOL
ATTENDEE;ROLE=REQ-PARTICIPANT;PARTSTAT=ACCEPTED;RSVP=TRUE;CN="ZÃ©lia A
 lhÃ©na":https://epanews.fr/profile/DavidKo
END:VEVENT
END:VCALENDAR
