BEGIN:VCALENDAR
PRODID:NingEventWidget-v1
VERSION:2.0
METHOD:PUBLISH
BEGIN:VTIMEZONE
TZID:Europe/Paris
X-LIC-LOCATION:Europe/Paris
BEGIN:DAYLIGHT
TZOFFSETFROM:+0100
TZOFFSETTO:+0200
TZNAME:CEST
DTSTART:19700329T020000
RRULE:FREQ=YEARLY;BYMONTH=3;BYDAY=-1SU
END:DAYLIGHT
BEGIN:STANDARD
TZOFFSETFROM:+0200
TZOFFSETTO:+0100
TZNAME:CET
DTSTART:19701025T030000
RRULE:FREQ=YEARLY;BYMONTH=10;BYDAY=-1SU
END:STANDARD
END:VTIMEZONE
BEGIN:VEVENT
UID:2485226:Event:2326143
DTSTAMP:20260422T110511Z
SUMMARY:JournÃ©e mondiale du Yoga
DESCRIPTION:NamastÃ©,  Le 21 juin en France, câ€™est le solstice dâ€™Ã
 ©tÃ©, la fÃªte de la musique et cette annÃ©e dans le monde entier, ce 
 sera la toute premiÃ¨re journÃ©e dÃ©diÃ©e au Yoga.  MicaÃ«la & le thÃ©
 Ã¢tre du Centaure vous invitent Ã  une parenthÃ¨se Yoga dans la pure t
 radition indienne le dimanche 21 Juin 2015 de 14h00 Ã  16h00.  Venez e
 n famille dÃ©couvrir ou redÃ©couvrir cet endroit magique.  Nous vous p
 roposons des ateliers pour les adultes et pour les enfants. Le cours d
 e Yoga pour adultes est ouvert Ã  tous, quelle que soit votre expÃ©rie
 nce. Chacun est acceptÃ© tel quâ€™il est. La sÃ©ance comprendra 90mn d
 â€™Asana (postures) suivie de 30mn de Yoga Nidra (relaxation).  De leu
 r cÃ´tÃ©, vos enfants (Ã  partir de 4 ans) pourront Ã©veiller leur ima
 gination et voyager Ã  travers les contes et histoires fantastiques de
  lâ€™Inde et sâ€™initier Ã  la danse indienne\nParticipation 15 Euros 
 / adulte et 10 Euros / enfant.\n\nPour plus d'information, aller sur h
 ttps://epanews.fr/events/journ-e-mondiale-du-yoga
DTSTART;TZID=Europe/Paris:20150621T140000
DTEND;TZID=Europe/Paris:20150621T160000
CATEGORIES:13, 83, 84, 05, 30, 06, 04
LOCATION:ThÃªatre du Centaure
WEBSITE:http://www.rasayana.fr
URL:http://www.rasayana.fr
CONTACT:0683374739
ORGANIZER;CN="Rasayana Yoga Avignon":https://epanews.fr/profile/Rasaya
 naYoga
ATTACH;FMTTYPE="image/jpeg":http://storage.ning.com/topology/rest/1.0/
 file/get/1663399303?profile=original
ATTENDEE;ROLE=REQ-PARTICIPANT;PARTSTAT=ACCEPTED;RSVP=TRUE;CN="Rasayana
  Yoga Avignon":https://epanews.fr/profile/RasayanaYoga
END:VEVENT
END:VCALENDAR
