BEGIN:VCALENDAR
PRODID:NingEventWidget-v1
VERSION:2.0
METHOD:PUBLISH
BEGIN:VTIMEZONE
TZID:Europe/Paris
X-LIC-LOCATION:Europe/Paris
BEGIN:DAYLIGHT
TZOFFSETFROM:+0100
TZOFFSETTO:+0200
TZNAME:CEST
DTSTART:19700329T020000
RRULE:FREQ=YEARLY;BYMONTH=3;BYDAY=-1SU
END:DAYLIGHT
BEGIN:STANDARD
TZOFFSETFROM:+0200
TZOFFSETTO:+0100
TZNAME:CET
DTSTART:19701025T030000
RRULE:FREQ=YEARLY;BYMONTH=10;BYDAY=-1SU
END:STANDARD
END:VTIMEZONE
BEGIN:VEVENT
UID:2485226:Event:2617791
DTSTAMP:20260422T200209Z
SUMMARY:Journée Mondiale de la Biodanza mardi 19 avril
DESCRIPTION:A l'occasion de la journée mondiale de la BIODANZA\nLes p
 rofesseurs Facilitateurs de Charente-Maritime & deux sèvres organisen
 t une FIESTA SOLIDARITÉ\nRecettes reversées en totalité au profil d
 e la colonie de vacances \"association La Fleur qui Sourit\nRepas part
 agé pour ceux qui le souhaitent sous forme d'auberge espagnol\nOUVERT
  à tous même sans pratique de la Biodanza\n\n\n\nPour plus d'informa
 tion, aller sur https://epanews.fr/events/journ-e-mondiale-de-la-bioda
 nza-mardi-19-avril
DTSTART;TZID=Europe/Paris:20160419T193000
DTEND;TZID=Europe/Paris:20160419T213000
CATEGORIES:17, 16
LOCATION:salle La Rochelaise
WEBSITE:http://www.sylviavicente.com/
URL:http://www.sylviavicente.com/
CONTACT:0672189992
ORGANIZER;CN=Sylvia:https://epanews.fr/profile/Sylvia126
ATTACH;FMTTYPE="image/jpeg":http://storage.ning.com/topology/rest/1.0/
 file/get/1663555394?profile=original
ATTENDEE;ROLE=REQ-PARTICIPANT;PARTSTAT=ACCEPTED;RSVP=TRUE;CN=Sylvia:ht
 tps://epanews.fr/profile/Sylvia126
END:VEVENT
END:VCALENDAR
