BEGIN:VCALENDAR
PRODID:NingEventWidget-v1
VERSION:2.0
METHOD:PUBLISH
BEGIN:VTIMEZONE
TZID:Europe/Paris
X-LIC-LOCATION:Europe/Paris
BEGIN:DAYLIGHT
TZOFFSETFROM:+0100
TZOFFSETTO:+0200
TZNAME:CEST
DTSTART:19700329T020000
RRULE:FREQ=YEARLY;BYMONTH=3;BYDAY=-1SU
END:DAYLIGHT
BEGIN:STANDARD
TZOFFSETFROM:+0200
TZOFFSETTO:+0100
TZNAME:CET
DTSTART:19701025T030000
RRULE:FREQ=YEARLY;BYMONTH=10;BYDAY=-1SU
END:STANDARD
END:VTIMEZONE
BEGIN:VEVENT
UID:2485226:Event:2629546
DTSTAMP:20260422T093959Z
SUMMARY:Journée Mondiale de Biodanza
DESCRIPTION:\n\nPour plus d'information, aller sur https://epanews.fr/
 events/journ-e-mondiale-de-biodanza
DTSTART;TZID=Europe/Paris:20160423T180000
DTEND;TZID=Europe/Paris:20160423T210000
CATEGORIES:06
LOCATION:Salle Omnisport 239 chemin de ST Claude 06000 ANTIBES
WEBSITE:
URL:
CONTACT:
ORGANIZER;CN="Caroline Martelly":https://epanews.fr/profile/CarolineMa
 rtelly
ATTACH;FMTTYPE="image/jpeg":http://storage.ning.com/topology/rest/1.0/
 file/get/1663555300?profile=original
ATTENDEE;ROLE=REQ-PARTICIPANT;PARTSTAT=ACCEPTED;RSVP=TRUE;CN="Caroline
  Martelly":https://epanews.fr/profile/CarolineMartelly
END:VEVENT
END:VCALENDAR
