BEGIN:VCALENDAR
PRODID:NingEventWidget-v1
VERSION:2.0
METHOD:PUBLISH
BEGIN:VTIMEZONE
TZID:Europe/Paris
X-LIC-LOCATION:Europe/Paris
BEGIN:DAYLIGHT
TZOFFSETFROM:+0100
TZOFFSETTO:+0200
TZNAME:CEST
DTSTART:19700329T020000
RRULE:FREQ=YEARLY;BYMONTH=3;BYDAY=-1SU
END:DAYLIGHT
BEGIN:STANDARD
TZOFFSETFROM:+0200
TZOFFSETTO:+0100
TZNAME:CET
DTSTART:19701025T030000
RRULE:FREQ=YEARLY;BYMONTH=10;BYDAY=-1SU
END:STANDARD
END:VTIMEZONE
BEGIN:VEVENT
UID:2485226:Event:2834566
DTSTAMP:20260422T061008Z
SUMMARY:JournÃ©e marche consciente en mer & bord de mer Les Espiguette
 s Petite Camargue
DESCRIPTION:Chers tous, je me rÃ©jouis de vous prÃ©senter cette journÃ
 ©e : DÃ©couvrir, pratiquer la marche consciente en mer et en bord de m
 er. Marcher en pleine conscience ÃŠtre dans l'instant prÃ©sent. Appren
 dre Ã  marcher sans se fatiguer AmÃ©liorer sa condition physique Profi
 ter des bienfaits de l'eau de mer. Se rÃ©gÃ©nÃ©rer, se ressourcer ÃŠtr
 e dans l'Instant PrÃ©sent Se relier avec la nature  Samedi 4 juin de 1
 0h Ã  18h environ : Les Espiguettes(30)Â  La pratique de la marche con
 sciente en mer, offre de par la rÃ©sistance de l'Ã©lÃ©ment eau une dyn
 amique nouvelle, une autre faÃ§on de travailler les rythmes respiratoi
 res. Cette immersion dans l'eau Ã©veille autrement aussi l'Ã©coute de 
 notre corps, notre respiration, nos sens. Nous profitons des bienfaits
  de l'eau de mer ( circulation sanguine, massages..).Â  C'est aussi un
 e rencontre sensorielle douce, sensible, crÃ©ative avec l'Ã©lÃ©ment Ea
 u, la mer telle que je la propose.  Niveau facile  Pour plus de rensei
 gnements et vous incrire me contacter au 07-78-20-16-06 ouÂ www.enjoyt
 obe.com. Je propose Ã©galement des balades douces et conscientes Ã  la
  demi-journÃ©e. Si vous voulez suivre mes activitÃ©s, vous pouvez auss
 i vous abonner Ã  ma lettre d'informations par mon site.  Dans le plai
 sir sincÃ¨re de vous rencontrer, retrouver. Pascale Photo : B. Mongino
 uxÂ www.Photo-Paysage.comÂ cc by-nc-nd\n\nPour plus d'information, all
 er sur https://epanews.fr/events/journ-e-marche-consciente-en-mer-bord
 -de-mer-les-espiguettes
DTSTART;TZID=Europe/Paris:20170604T000000
DTEND;TZID=Europe/Paris:20170604T235900
CATEGORIES:30
LOCATION:Les Espiguettes Petite Camargue
WEBSITE:https://www.google.fr/maps/place/Plage+de+l'Espiguette/@43.501
 7334,4.1198781,17z/data=!3m1!4b1!4m5!3m4!1s0x12b696c99b5c9e31:0xfa3b6d
 7fdf511a4b!8m2!3d43.5017334!4d4.1220668?hl=fr
URL:https://www.google.fr/maps/place/Plage+de+l'Espiguette/@43.5017334
 ,4.1198781,17z/data=!3m1!4b1!4m5!3m4!1s0x12b696c99b5c9e31:0xfa3b6d7fdf
 511a4b!8m2!3d43.5017334!4d4.1220668?hl=fr
CONTACT:07-78-20-16-06
ORGANIZER:
ATTACH;FMTTYPE="image/jpeg":http://storage.ning.com/topology/rest/1.0/
 file/get/1663668810?profile=original
ATTENDEE;ROLE=REQ-PARTICIPANT;PARTSTAT=ACCEPTED;RSVP=TRUE;CN="Pascale 
 SÃ©gura Ã´ Plaisir d'ÃŠtre":https://epanews.fr/profile/PascaleSeguraOE
 PlaisirdEtre
END:VEVENT
END:VCALENDAR
