BEGIN:VCALENDAR
PRODID:NingEventWidget-v1
VERSION:2.0
METHOD:PUBLISH
BEGIN:VTIMEZONE
TZID:Europe/Paris
X-LIC-LOCATION:Europe/Paris
BEGIN:DAYLIGHT
TZOFFSETFROM:+0100
TZOFFSETTO:+0200
TZNAME:CEST
DTSTART:19700329T020000
RRULE:FREQ=YEARLY;BYMONTH=3;BYDAY=-1SU
END:DAYLIGHT
BEGIN:STANDARD
TZOFFSETFROM:+0200
TZOFFSETTO:+0100
TZNAME:CET
DTSTART:19701025T030000
RRULE:FREQ=YEARLY;BYMONTH=10;BYDAY=-1SU
END:STANDARD
END:VTIMEZONE
BEGIN:VEVENT
UID:2485226:Event:2189494
DTSTAMP:20260422T174654Z
SUMMARY:Journée Internationale des Câlins : Câlinoux thérapies
DESCRIPTION:Allez \"viendez\" tous avec vos proches, vos enfants, vos 
 amis, votre ex, votre belle mère, invitez les tous via Facebook, qu'o
 n se câline en Vrai, en chair et en os : Coeur à Coeur, Corps à Cor
 ps et en distribuant de gros Câlins à tout le monde ...! Histoire de
  sortir du virtuel du web et de Co Créer notre nouvelle réalité d'A
 mour Fraternel !!!\nEchange 2 Câlins :CÂLINS GRATUITS / FREE HUGS  
  Venez partager de la chaleur humaine,  De la joie de vivre, Sourions,
  Tendons la main, Ouvrons nos bras, Offrons des câlins  ça ne ressem
 ble à aucune autre expérience, c'est génial et inoubliable... !!! O
 SEZ !!!  ET PARTAGEONS  CÂLINS, TENDRESSE, RÉCONFORT ...\n\n\n\n  A
 u plaisir de s'y retrouver mercredi et de partout ! FranSoi.\n\nPour p
 lus d'information, aller sur https://epanews.fr/events/journ-e-interna
 tionale-des-c-lins-c-linoux-th-rapies
DTSTART;TZID=Europe/Paris:20150121T120000
DTEND;TZID=Europe/Paris:20150121T180000
CATEGORIES:34
LOCATION:Coeur de Montpellier
WEBSITE:https://www.facebook.com/events/1519350504993542/
URL:https://www.facebook.com/events/1519350504993542/
CONTACT:0616463598
ORGANIZER;CN="François Casteras":https://epanews.fr/profile/FrancoisC
 asteras
ATTACH;FMTTYPE="image/jpeg":http://storage.ning.com/topology/rest/1.0/
 file/get/1663306567?profile=original
ATTENDEE;ROLE=REQ-PARTICIPANT;PARTSTAT=ACCEPTED;RSVP=TRUE;CN="Françoi
 s Casteras":https://epanews.fr/profile/FrancoisCasteras
END:VEVENT
END:VCALENDAR
