BEGIN:VCALENDAR
PRODID:NingEventWidget-v1
VERSION:2.0
METHOD:PUBLISH
BEGIN:VTIMEZONE
TZID:Europe/Paris
X-LIC-LOCATION:Europe/Paris
BEGIN:DAYLIGHT
TZOFFSETFROM:+0100
TZOFFSETTO:+0200
TZNAME:CEST
DTSTART:19700329T020000
RRULE:FREQ=YEARLY;BYMONTH=3;BYDAY=-1SU
END:DAYLIGHT
BEGIN:STANDARD
TZOFFSETFROM:+0200
TZOFFSETTO:+0100
TZNAME:CET
DTSTART:19701025T030000
RRULE:FREQ=YEARLY;BYMONTH=10;BYDAY=-1SU
END:STANDARD
END:VTIMEZONE
BEGIN:VEVENT
UID:2485226:Event:2950572
DTSTAMP:20260424T142541Z
SUMMARY:Journée Hypnose Saint Pierre La Réunion
DESCRIPTION:Samedi 12 Mai, Yann Laudrin​, hypnothérapeute certifié
  vous accompagnera durant toute cette journée. Rendez-vous au 27 rue 
 siant Expedit Terre Sainte 97410 Saint Pierre - La Réunion.  À parti
 r de 9 heures, lors de la conférence interactive, vous découvrirez t
 out ce que l'hypnose, à but de développement personnel ou thérapeut
 ique, peut changer dans votre vie. Que vous soyez curieux ou que vous 
 ayez déjà vécu une expérience hypnotique, la conférence \"Découv
 erte de l'hypnose\" vous apportera les réponses et un éclairage sur 
 les réalités ou le pouvoir de l'hypnose.  Reprise à 14h pour un sta
 ge \"Auto-hypnose\". Vous serez guidé dans toutes les étapes d'une p
 ratique autonome de l'hypnose. Une dizaine de protocoles adaptables à
  chacun selon sa propre personnalité, seront expliqués, mis en appli
 cation et récapitulés dans un livret offert à l'occasion. Pour prof
 iter pleinement de ce stage, il est conseillé de connaître certaines
  bases dévoilées lors de la conférence, ou par votre propre expéri
 ence personnelle en hypnose accompagnée.   Des billets à tarifs pré
 férentiels vous sont proposées jusqu'au 6 Mai pour toutes vos réser
 vations en ligne.  Ce rendez-vous unique est ouverts à toutes et à t
 ous, dans une ambiance bienveillante, de partage et ponctuée d'humour
 .  Les places sont limitées afin de favoriser la qualité des échang
 es. Aussi, nous vous invitons à vous inscrire au plus tôt et à part
 ager avec vos amis cette occasion à saisir qui s'offre à vous.  Rens
 eignements et réservations: https://www.billetweb.fr/journee-hypnose-
 st-pierre-la-reunion Tél: 06 16 25 10 89 https://www.facebook.com/yan
 n.laudrin.coach.hypnotiste/ yannlaudrinhypnocoaching@gmail.com\n\nPour
  plus d'information, aller sur https://epanews.fr/events/journ-e-hypno
 se-saint-pierre-la-r-union
DTSTART;TZID=Europe/Paris:20180512T000000
DTEND;TZID=Europe/Paris:20180512T235900
CATEGORIES:974
LOCATION:Saint Pierre La Réunion
WEBSITE:https://www.billetweb.fr/journee-hypnose-st-pierre-la-reunion
URL:https://www.billetweb.fr/journee-hypnose-st-pierre-la-reunion
CONTACT:0616251089
ORGANIZER;CN="Yann Hypno-coach":https://epanews.fr/profile/YannHypnoco
 ach
ATTACH;FMTTYPE="image/jpeg":http://storage.ning.com/topology/rest/1.0/
 file/get/1663735933?profile=original
ATTENDEE;ROLE=REQ-PARTICIPANT;PARTSTAT=ACCEPTED;RSVP=TRUE;CN="Yann Hyp
 no-coach":https://epanews.fr/profile/YannHypnocoach
END:VEVENT
END:VCALENDAR
