BEGIN:VCALENDAR
PRODID:NingEventWidget-v1
VERSION:2.0
METHOD:PUBLISH
BEGIN:VTIMEZONE
TZID:Europe/Paris
X-LIC-LOCATION:Europe/Paris
BEGIN:DAYLIGHT
TZOFFSETFROM:+0100
TZOFFSETTO:+0200
TZNAME:CEST
DTSTART:19700329T020000
RRULE:FREQ=YEARLY;BYMONTH=3;BYDAY=-1SU
END:DAYLIGHT
BEGIN:STANDARD
TZOFFSETFROM:+0200
TZOFFSETTO:+0100
TZNAME:CET
DTSTART:19701025T030000
RRULE:FREQ=YEARLY;BYMONTH=10;BYDAY=-1SU
END:STANDARD
END:VTIMEZONE
BEGIN:VEVENT
UID:2485226:Event:569740
DTSTAMP:20260423T075936Z
SUMMARY:Journée formation \" découverte du protocole\" Juste
DESCRIPTION:Une journée formation-découverte du Sens de ce qui est J
 uste, à travers un atelier interactif utilisant des éléments du quo
 tidien. Pas de connaissance de base requise, \nVous découvrirez comm
 ent s'épanouir personnellement dans l'équité, ce que cela signifie,
  et d'autre outils d'auto-gestion face au stress ou conflits.\nAu Rest
 aurant \"A la Maison\", (repas pris au restaurant)\nTarif de la format
 ion: 70€ (sans le repas)\nvoir le site equiteki.fr pour plus d'infos
 \n\nPour plus d'information, aller sur https://epanews.fr/events/journ
 -e-formation-d-couverte-du-protocole
DTSTART;TZID=Europe/Paris:20111101T000000
DTEND;TZID=Europe/Paris:20111101T235900
CATEGORIES:26
LOCATION:Montélimar
WEBSITE:http://equiteki.fr
URL:http://equiteki.fr
CONTACT:0685886938
ORGANIZER;CN="Christian TONNON":https://epanews.fr/profile/ChristianTO
 NNON
ATTACH;FMTTYPE="image/jpeg":http://storage.ning.com/topology/rest/1.0/
 file/get/1662476737?profile=original
ATTENDEE;ROLE=REQ-PARTICIPANT;PARTSTAT=ACCEPTED;RSVP=TRUE;CN="Christia
 n TONNON":https://epanews.fr/profile/ChristianTONNON
END:VEVENT
END:VCALENDAR
