BEGIN:VCALENDAR
PRODID:NingEventWidget-v1
VERSION:2.0
METHOD:PUBLISH
BEGIN:VTIMEZONE
TZID:Europe/Paris
X-LIC-LOCATION:Europe/Paris
BEGIN:DAYLIGHT
TZOFFSETFROM:+0100
TZOFFSETTO:+0200
TZNAME:CEST
DTSTART:19700329T020000
RRULE:FREQ=YEARLY;BYMONTH=3;BYDAY=-1SU
END:DAYLIGHT
BEGIN:STANDARD
TZOFFSETFROM:+0200
TZOFFSETTO:+0100
TZNAME:CET
DTSTART:19701025T030000
RRULE:FREQ=YEARLY;BYMONTH=10;BYDAY=-1SU
END:STANDARD
END:VTIMEZONE
BEGIN:VEVENT
UID:2485226:Event:2810415
DTSTAMP:20260421T102412Z
SUMMARY:JournÃ©e du sommeil
DESCRIPTION:A l'occasion de la JournÃ©e Nationale du Sommeil, organisÃ
 ©e annuellement par l'Institut National du Sommeil et de la Vigilance,
  le collectif de praticiens de la ville d'Auray se rÃ©unit de nouveau 
 afin de sensibiliser les habitants sur la physiologie du sommeil et le
 s clÃ©s d'un bon sommeil.\n\nPour plus d'information, aller sur https:
 //epanews.fr/events/journ-e-du-sommeil
DTSTART;TZID=Europe/Paris:20170325T000000
DTEND;TZID=Europe/Paris:20170325T235900
CATEGORIES:56
LOCATION:Centre Gabriel Deshayes - La chartreuse
WEBSITE:http://www.sophrologiemorbihan.fr/journee-du-sommeil-2017
URL:http://www.sophrologiemorbihan.fr/journee-du-sommeil-2017
CONTACT:0603152854
ORGANIZER;CN=sylvie:https://epanews.fr/profile/sylvie714
ATTACH;FMTTYPE="image/jpeg":http://storage.ning.com/topology/rest/1.0/
 file/get/1663656885?profile=original
ATTENDEE;ROLE=REQ-PARTICIPANT;PARTSTAT=ACCEPTED;RSVP=TRUE;CN=sylvie:ht
 tps://epanews.fr/profile/sylvie714
END:VEVENT
END:VCALENDAR
