BEGIN:VCALENDAR
PRODID:NingEventWidget-v1
VERSION:2.0
METHOD:PUBLISH
BEGIN:VTIMEZONE
TZID:Europe/Paris
X-LIC-LOCATION:Europe/Paris
BEGIN:DAYLIGHT
TZOFFSETFROM:+0100
TZOFFSETTO:+0200
TZNAME:CEST
DTSTART:19700329T020000
RRULE:FREQ=YEARLY;BYMONTH=3;BYDAY=-1SU
END:DAYLIGHT
BEGIN:STANDARD
TZOFFSETFROM:+0200
TZOFFSETTO:+0100
TZNAME:CET
DTSTART:19701025T030000
RRULE:FREQ=YEARLY;BYMONTH=10;BYDAY=-1SU
END:STANDARD
END:VTIMEZONE
BEGIN:VEVENT
UID:2485226:Event:1797228
DTSTAMP:20260422T211127Z
SUMMARY:journée de méditation
DESCRIPTION:nous organisons une journée avec de la méditation guidé
 e , des discutions sur la spiritalitée et le bien être . cette journ
 ée est totalement gratuite.\nGérard & Evelyne\n\nPour plus d'informa
 tion, aller sur https://epanews.fr/events/journ-e-de-m-ditation
DTSTART;TZID=Europe/Paris:20140303T000000
DTEND;TZID=Europe/Paris:20140303T235900
CATEGORIES:69
LOCATION:Lamure sur Azergues
WEBSITE:
URL:
CONTACT:0634571375
ORGANIZER;CN=vulcain:https://epanews.fr/profile/vulcain
ATTACH;FMTTYPE="image/jpeg":http://storage.ning.com/topology/rest/1.0/
 file/get/1663070198?profile=original
ATTENDEE;ROLE=REQ-PARTICIPANT;PARTSTAT=ACCEPTED;RSVP=TRUE;CN=vulcain:h
 ttps://epanews.fr/profile/vulcain
END:VEVENT
END:VCALENDAR
