BEGIN:VCALENDAR
PRODID:NingEventWidget-v1
VERSION:2.0
METHOD:PUBLISH
BEGIN:VTIMEZONE
TZID:Europe/Paris
X-LIC-LOCATION:Europe/Paris
BEGIN:DAYLIGHT
TZOFFSETFROM:+0100
TZOFFSETTO:+0200
TZNAME:CEST
DTSTART:19700329T020000
RRULE:FREQ=YEARLY;BYMONTH=3;BYDAY=-1SU
END:DAYLIGHT
BEGIN:STANDARD
TZOFFSETFROM:+0200
TZOFFSETTO:+0100
TZNAME:CET
DTSTART:19701025T030000
RRULE:FREQ=YEARLY;BYMONTH=10;BYDAY=-1SU
END:STANDARD
END:VTIMEZONE
BEGIN:VEVENT
UID:2485226:Event:2445581
DTSTAMP:20260421T175848Z
SUMMARY:JournÃ©e de l'Ãªtre
DESCRIPTION:JournÃ©e dÃ©couverte pour le mieux Ãªtre avec diffÃ©rents 
 ateliers :\nLa technique d'AccÃ¨s Bars: confÃ©rence et ateliers gratui
 ts.\nPour les praticiens un coin d'Ã©changes sera disponible.\nÂ Â Â Â
  Â Â Â Â Â Â Â Â Â  Les lunettes de relaxation Psio\nÂ Â Â Â Â Â Â Â Â
  Â Â Â Â  Massages Ã©nergÃ©tiques et Tuina\nÂ Â Â Â Â Â Â Â Â Â Â Â Â 
 Â une initiation gratuite de Golf\nÂ Â Â Â Â Â Â Â Â Â Â Â Â  Repas Bi
 o compris ainsi que boissons\nÂ Â Â Â Â Â Â Â Â Â Â Â Â  Places limitÃ
 ©es.Â  Prix: 25 euros\n\nPour plus d'information, aller sur https://ep
 anews.fr/events/journ-e-de-l-tre
DTSTART;TZID=Europe/Paris:20151115T100000
DTEND;TZID=Europe/Paris:20151115T180000
CATEGORIES:gard
LOCATION:Golf de Vacquerolles NÃ®mes
WEBSITE:
URL:
CONTACT:0661711347
ORGANIZER;CN=Essentielle:https://epanews.fr/profile/Renard644
ATTACH;FMTTYPE="image/jpeg":http://storage.ning.com/topology/rest/1.0/
 file/get/1663466877?profile=original
ATTENDEE;ROLE=REQ-PARTICIPANT;PARTSTAT=ACCEPTED;RSVP=TRUE;CN=Essentiel
 le:https://epanews.fr/profile/Renard644
END:VEVENT
END:VCALENDAR
