BEGIN:VCALENDAR
PRODID:NingEventWidget-v1
VERSION:2.0
METHOD:PUBLISH
BEGIN:VTIMEZONE
TZID:Europe/Paris
X-LIC-LOCATION:Europe/Paris
BEGIN:DAYLIGHT
TZOFFSETFROM:+0100
TZOFFSETTO:+0200
TZNAME:CEST
DTSTART:19700329T020000
RRULE:FREQ=YEARLY;BYMONTH=3;BYDAY=-1SU
END:DAYLIGHT
BEGIN:STANDARD
TZOFFSETFROM:+0200
TZOFFSETTO:+0100
TZNAME:CET
DTSTART:19701025T030000
RRULE:FREQ=YEARLY;BYMONTH=10;BYDAY=-1SU
END:STANDARD
END:VTIMEZONE
BEGIN:VEVENT
UID:2485226:Event:1876811
DTSTAMP:20260421T113010Z
SUMMARY:JournÃ©e de l'optimisme - Barcares
DESCRIPTION:Qu'est-ce que c'est ?\nLes \"JournÃ©es 2 l'optimisme Â®\" 
 est un Ã©vÃ©nement francophone public, populaire et nomade visant Ã  :
 \nÃ‰tape 1 :Â 14h/15h - Optimiste CafÃ© Â® DÃ¨s le matin, nous vous in
 vitons Ã  nous retrouver aÂ LA LANGOUSTE QUI CHANTE - 59 bd grau saint
  ange, 66420 BARCARES (LE) ()Â \nLes consommations sont Ã  votre charg
 e, je n'ai aucun intÃ©rÃªt financier avec cet Ã©tablissement.\nAutour 
 d'une boisson chaude, nous nous retrouvons pour discuter, dialoguer, Ã
 ©changer notre vision de l'optimisme.Â \nL'entrÃ©e est 100 % gratuite.
  Le seul engagement rÃ©side Ã  respecter notre hÃ´te en acceptant de p
 rendre un... cafÃ©*\nAu micro de Ludovic BEUZERON, vous pourrez vous e
 xprimer, apporter votre tÃ©moignage, donner votre dÃ©finition de l'opt
 imisme ou plus simplement affronter vos idÃ©es dans un Ã©tat d'esprit 
 constructif et positif.\nL'enregistrement sera diffusÃ©e sur les ondes
  de GÃ‰NÃ‰RATION OPTIMISTE Â® et CONTACT FM\nÃ‰tape 2 : 15h/16h - Un S
 ourire pour tous\nDurant la \"JournÃ©e 2 l'optimisme Â®\" nous vous in
 vitons Ã  nous rencontrer afin de partager votre sourire avec nous. Av
 ec votre accord,\"un Sourire pour tous\" se concrÃ©tise toujours, par 
 une prise de vue photographique.\nLes candidat(e)s sont tous volontair
 es.\nÃ‰tape 3 : 16h/17h - CÃ¢lins Gratuits (free hugs)\nSi le coeur vo
 us en dit, lâ€™idÃ©e est dâ€™aller Ã  la rencontrer des gens dans un e
 nvironnement public et de leur offrir un... cÃ¢lin.\nLe but est vraime
 nt de partager avec la population ce moyen dâ€™expression pour en fair
 e un outil de communication.\nEn effet, tout cela sera enregistrÃ© en 
 vidÃ©o et diffusÃ© sur notre chaine youtube.\nAlors, si vous souhaitez
  passer une matinÃ©e de bonne humeur, de positivisme, de sourire et de
  rencontrer des personnes qui partagent vos idÃ©es et vos envies, je v
 ous invite Ã  me rejoindre pour cet Ã©vÃ©nement.... Vous ne risquez ri
 en, sinon partir avec un magnifique sourire accrochÃ© Ã  vos lÃ¨vres p
 our un long long moment.\nAlors Ã  Samedi .... :)\n\nPour plus d'infor
 mation, aller sur https://epanews.fr/events/journ-e-de-l-optimisme-bar
 cares
DTSTART;TZID=Europe/Paris:20140419T140000
DTEND;TZID=Europe/Paris:20140419T170000
CATEGORIES:66
LOCATION:LA LANGOUSTE QUI CHANTE
WEBSITE:http://www.pagesjaunes.fr/pros/06623042
URL:http://www.pagesjaunes.fr/pros/06623042
CONTACT:
ORGANIZER;CN="Valerie MADEJ":https://epanews.fr/profile/ValerieMADEj
ATTACH;FMTTYPE="image/jpeg":http://storage.ning.com/topology/rest/1.0/
 file/get/1663113720?profile=original
ATTENDEE;ROLE=REQ-PARTICIPANT;PARTSTAT=ACCEPTED;RSVP=TRUE;CN="Valerie 
 MADEJ":https://epanews.fr/profile/ValerieMADEj
END:VEVENT
END:VCALENDAR
