BEGIN:VCALENDAR
PRODID:NingEventWidget-v1
VERSION:2.0
METHOD:PUBLISH
BEGIN:VTIMEZONE
TZID:Europe/Paris
X-LIC-LOCATION:Europe/Paris
BEGIN:DAYLIGHT
TZOFFSETFROM:+0100
TZOFFSETTO:+0200
TZNAME:CEST
DTSTART:19700329T020000
RRULE:FREQ=YEARLY;BYMONTH=3;BYDAY=-1SU
END:DAYLIGHT
BEGIN:STANDARD
TZOFFSETFROM:+0200
TZOFFSETTO:+0100
TZNAME:CET
DTSTART:19701025T030000
RRULE:FREQ=YEARLY;BYMONTH=10;BYDAY=-1SU
END:STANDARD
END:VTIMEZONE
BEGIN:VEVENT
UID:2485226:Event:1268220
DTSTAMP:20260422T174705Z
SUMMARY:Journée de guérison pour la transformation avec Sai Maa
DESCRIPTION:Sai Maa utilisera sa connaissance étendue et son expérie
 nce pour vous élever au-delà de l'ancien paradigme de guérison, ver
 s un espace de prise de puissance, de transformation, et de compréhen
 sion de l'énergie en tant que Lumière divine.\nVous recevrez égalem
 ent des activations d'énergies pour vous aider dans votre travail ave
 c d'autres.\nCe programme est ouvert à toute personne active dans la 
 guérison – docteurs, infirmières, thérapeutes, travail énergéti
 que, etc...   En participant à cette Journée de Guérison, vous vous
  engagez à partager cette grâce et cette shakti (activations d'éner
 gie) que vous recevrez de Sai Maa, par le service à d'autres.   Journ
 ée de Guérison pour la Transformation: 28 Avril, 9h - 14h\nNb: Cette
  journée clôt, en fait, tout un week-end avec le Maître\nVous pouve
 z vous inscrire pour une ou plusieurs des sessions de conférences off
 ertes durant la visite de Sai Maa à Bruxelles ci-dessous:\n- Darshan
  avec Sai Maa - 26 Avril - 18h - Coût: 0€ (Pré-inscription requise
 )- Atelier d’Enseignement - 27 Avril - 10h - 15h, 19:30h - 21:30h -
  Coût: 95€- Programme du soir avec Chant - 27 Avril  - 19h30 - 21h
 30 - Coût: 25€\n-  Journée de Guérison pour la Transformation -
  28 Avril - 9h - 14h - Coût: 225€\n\n\nPour plus d'information, all
 er sur https://epanews.fr/events/journ-e-de-gu-rison-pour-la-transform
 ation-avec-sai-maa
DTSTART;TZID=Europe/Paris:20130428T000000
DTEND;TZID=Europe/Paris:20130428T235900
CATEGORIES:belgique
LOCATION:Brussels44 center
WEBSITE:http://www.Sai-Maa.com/Brussels
URL:http://www.Sai-Maa.com/Brussels
CONTACT:
ORGANIZER:Ashram Sai Maa Bruxelles
ATTACH;FMTTYPE="image/jpeg":http://storage.ning.com/topology/rest/1.0/
 file/get/1662797502?profile=original
ATTENDEE;ROLE=REQ-PARTICIPANT;PARTSTAT=TENTATIVE;RSVP=TRUE;CN=Meriem:h
 ttps://epanews.fr/profile/MeriemDjouad
END:VEVENT
END:VCALENDAR
