BEGIN:VCALENDAR
PRODID:NingEventWidget-v1
VERSION:2.0
METHOD:PUBLISH
BEGIN:VTIMEZONE
TZID:Europe/Paris
X-LIC-LOCATION:Europe/Paris
BEGIN:DAYLIGHT
TZOFFSETFROM:+0100
TZOFFSETTO:+0200
TZNAME:CEST
DTSTART:19700329T020000
RRULE:FREQ=YEARLY;BYMONTH=3;BYDAY=-1SU
END:DAYLIGHT
BEGIN:STANDARD
TZOFFSETFROM:+0200
TZOFFSETTO:+0100
TZNAME:CET
DTSTART:19701025T030000
RRULE:FREQ=YEARLY;BYMONTH=10;BYDAY=-1SU
END:STANDARD
END:VTIMEZONE
BEGIN:VEVENT
UID:2485226:Event:1804746
DTSTAMP:20260421T161811Z
SUMMARY:Journée de Guérison planétaire du tambour Féminin-Mère
DESCRIPTION:Moment de grâce et de méditation intérieure avec votre 
 tambour, pour se relier tous ensemble à la Mère-Terre, à Gaia, à l
 a Déesse-Mère et au Féminin Sacré en nous.\nBattre le tambour à l
 'unisson, émettre une onde musicale, un rythme naturel et maternel, l
 e 8 mars 2014, journée mondiale de la femme à midi, heure du Québec
 .\nImaginer l'ampleur de la raisonnance énergétique pour une même c
 ause, au même moment ! Pendant 30 minutes...Ce lien d'amour entre tou
 tes les femmes (hommes) ouvrira une porte fabuleuse de reconnection av
 ec La Mère.\nPour son retour, son émergence et pour retrouver enfin 
 Sa Présence... Je vous envois cette invitation, faites circuler svp p
 our que nous soyons, d'année en année, à cette même journée, ense
 mble et de plus en plus nombreuses à révéler et entendre le batteme
 nt de son coeur.\nMerci\n\nPour plus d'information, aller sur https://
 epanews.fr/events/journ-e-de-gu-rison-plan-taire-du-tambour-f-minin-m-
 re
DTSTART;TZID=Europe/Paris:20140308T173000
DTEND;TZID=Europe/Paris:20140308T200000
CATEGORIES:35
LOCATION:Bretagne
WEBSITE:http://free.moon.free.fr
URL:http://free.moon.free.fr
CONTACT:09 83 39 16 64
ORGANIZER;CN="Free Moon":https://epanews.fr/profile/1ggai5tma2xpm
ATTACH;FMTTYPE="image/jpeg":http://storage.ning.com/topology/rest/1.0/
 file/get/1663071818?profile=original
ATTENDEE;ROLE=REQ-PARTICIPANT;PARTSTAT=ACCEPTED;RSVP=TRUE;CN="Free Moo
 n":https://epanews.fr/profile/1ggai5tma2xpm
END:VEVENT
END:VCALENDAR
