BEGIN:VCALENDAR
PRODID:NingEventWidget-v1
VERSION:2.0
METHOD:PUBLISH
BEGIN:VTIMEZONE
TZID:Europe/Paris
X-LIC-LOCATION:Europe/Paris
BEGIN:DAYLIGHT
TZOFFSETFROM:+0100
TZOFFSETTO:+0200
TZNAME:CEST
DTSTART:19700329T020000
RRULE:FREQ=YEARLY;BYMONTH=3;BYDAY=-1SU
END:DAYLIGHT
BEGIN:STANDARD
TZOFFSETFROM:+0200
TZOFFSETTO:+0100
TZNAME:CET
DTSTART:19701025T030000
RRULE:FREQ=YEARLY;BYMONTH=10;BYDAY=-1SU
END:STANDARD
END:VTIMEZONE
BEGIN:VEVENT
UID:2485226:Event:2254549
DTSTAMP:20260421T100432Z
SUMMARY:JournÃ©e Bars Access ConsciousnessÂ®
DESCRIPTION:Connaissez-vous la joie, la lÃ©gÃ¨retÃ© dans votre vie?Â \
 nVous Ãªtes thÃ©rapeute et souhaitez connaitre un outil facile Ã  intÃ
 ©grer Ã  votre mÃ©thode?\n\nVenez participer Ã  une journÃ©e Access Co
 nsciousnessÂ® Bars...\nDurant cette journÃ©e, vous allez donner et rec
 evoir une sÃ©ance deux fois.\n Nous ne sommes conscients que d'environ
  15% de notre vie, le reste est stockÃ© dans l'inconscient collectif, 
 ce qui nous amÃ¨ne Ã  penser ou faire des activitÃ©s liÃ©es Ã  des pen
 sÃ©es ou sentiments qui ne nous appartiennent pas.\nÂ Lorsque nous nou
 s libÃ©rons de vieilles mÃ©moires cellulaires de peurs, de culpabilitÃ
 ©s, de mal Ãªtre, nous libÃ©rons en mÃªme temps cela du champ Ã©nergÃ©
 tique de 350000 personnes.\n Nous pouvons retrouver un sens profond Ã 
  qui nous sommes et ce que nous cherchons Ã  Ãªtre.\n\nCette mÃ©thode 
 est trÃ¨s simple Ã  apprendre et Ã  utiliser, mÃªme les enfants peuven
 t pratiquer!\nVous n'avez besoin que de vos 2 mains pour activer des p
 oints sur la tÃªte permettant de crÃ©er des ondes Ã©lectromagnÃ©tiques
  crÃ©ant des \"barres\". Celles-ci vont ainsi nous libÃ©rer de sentime
 nts, d'Ã©motions dont nous n'avons plus besoin pour retrouver pleineme
 nt notre Ãªtre intÃ©rieur.\n Le premier ressenti est une profonde dÃ©t
 ente, une sensation de voyage hors du temps!\n Le formulaire d'inscrip
 tion d'inscription :\nhttps://docs.google.com/forms/d/1hjaw_3AUdx0_wJn
 GwuoKca0ZKk1WEk9LUAOVZDpDjXg/edit#  https://www.youtube.com/watch?v=Cc
 4Kx6bJSvM&authuser=0 \n\nPour plus d'information, aller sur https://ep
 anews.fr/events/journ-e-de-formation-bars-access-consciousness
DTSTART;TZID=Europe/Paris:20150416T000000
DTEND;TZID=Europe/Paris:20150416T235900
CATEGORIES:milly-la-forÃªt
LOCATION:Milly la forÃªt
WEBSITE:http://quantharmonie.blogspot.fr/
URL:http://quantharmonie.blogspot.fr/
CONTACT:0649004812
ORGANIZER;CN="Fabienne Martin":https://epanews.fr/profile/FabienneMart
 in
ATTACH;FMTTYPE="image/jpeg":
ATTENDEE;ROLE=REQ-PARTICIPANT;PARTSTAT=ACCEPTED;RSVP=TRUE;CN="Fabienne
  Martin":https://epanews.fr/profile/FabienneMartin
END:VEVENT
END:VCALENDAR
