BEGIN:VCALENDAR
PRODID:NingEventWidget-v1
VERSION:2.0
METHOD:PUBLISH
BEGIN:VTIMEZONE
TZID:Europe/Paris
X-LIC-LOCATION:Europe/Paris
BEGIN:DAYLIGHT
TZOFFSETFROM:+0100
TZOFFSETTO:+0200
TZNAME:CEST
DTSTART:19700329T020000
RRULE:FREQ=YEARLY;BYMONTH=3;BYDAY=-1SU
END:DAYLIGHT
BEGIN:STANDARD
TZOFFSETFROM:+0200
TZOFFSETTO:+0100
TZNAME:CET
DTSTART:19701025T030000
RRULE:FREQ=YEARLY;BYMONTH=10;BYDAY=-1SU
END:STANDARD
END:VTIMEZONE
BEGIN:VEVENT
UID:2485226:Event:2441718
DTSTAMP:20260423T142106Z
SUMMARY:Journée de Biodanza pour femmes \"énergies enchanteresse et 
 ancienne\"
DESCRIPTION:\nEn lien avec les énergies d'automne et d'hiver, se conn
 ecter et explorer en dansant les archétypes de la femme \"enchanteres
 se\" et de la femme \"ancienne\". S'offrir cette journée pour aller 
 dans le plaisir de notre corps de femme qui vit et qui danse. Accessi
 ble à toutes.\nAnimé par Véronique, facilitatrice de Biodanza depui
 s 12 ans et Moon Mother. Inscription : vero@biodanza.ch\n\n\nPour plus
  d'information, aller sur https://epanews.fr/events/journ-e-de-biodanz
 a-pour-femmes-nergies-enchanteresse-et-ancienne
DTSTART;TZID=Europe/Paris:20151018T110000
DTEND;TZID=Europe/Paris:20151018T170000
CATEGORIES:74
LOCATION:Annecy, Espace Danse Daléas
WEBSITE:https://www.google.com:443/maps/place/2+Rue+Louis+Chaumontel,+
 74000+Annecy,+France/@45.9042759,6.1209894,17z/data=!4m2!3m1!1s0x478b8
 5587f296b49:0xfe758881eeeefc62
URL:https://www.google.com:443/maps/place/2+Rue+Louis+Chaumontel,+7400
 0+Annecy,+France/@45.9042759,6.1209894,17z/data=!4m2!3m1!1s0x478b85587
 f296b49:0xfe758881eeeefc62
CONTACT:+41 78 611 33 19
ORGANIZER;CN="Véronique Fouré":https://epanews.fr/profile/VeroDanza
ATTACH;FMTTYPE="image/jpeg":http://storage.ning.com/topology/rest/1.0/
 file/get/1663462654?profile=original
ATTENDEE;ROLE=REQ-PARTICIPANT;PARTSTAT=ACCEPTED;RSVP=TRUE;CN="Véroniq
 ue Fouré":https://epanews.fr/profile/VeroDanza
END:VEVENT
END:VCALENDAR
