BEGIN:VCALENDAR
PRODID:NingEventWidget-v1
VERSION:2.0
METHOD:PUBLISH
BEGIN:VTIMEZONE
TZID:Europe/Paris
X-LIC-LOCATION:Europe/Paris
BEGIN:DAYLIGHT
TZOFFSETFROM:+0100
TZOFFSETTO:+0200
TZNAME:CEST
DTSTART:19700329T020000
RRULE:FREQ=YEARLY;BYMONTH=3;BYDAY=-1SU
END:DAYLIGHT
BEGIN:STANDARD
TZOFFSETFROM:+0200
TZOFFSETTO:+0100
TZNAME:CET
DTSTART:19701025T030000
RRULE:FREQ=YEARLY;BYMONTH=10;BYDAY=-1SU
END:STANDARD
END:VTIMEZONE
BEGIN:VEVENT
UID:2485226:Event:2934226
DTSTAMP:20260421T100656Z
SUMMARY:JournÃ©e d'initiation Ã  la marche consciente et Ã  la marche 
 afghane
DESCRIPTION:Niveau initiation*\nDates : 06 mai Â 2018 JournÃ©es indÃ©p
 endantes pouvant s'effectuer seulement sur 1 jour\nPrix : 59 â‚¬ la jo
 urnÃ©e Le lieu exact et l'heure de rendez-vous seront prÃ©cisÃ©s aux p
 articipants.\nAu programme : marche consciente, marche afghane, exerci
 ces sur le Hara, Yoga du son...*Lâ€™esprit du dÃ©butant prÃ©conisÃ© lo
 rs dâ€™une journÃ©e fait quâ€™il est possible de renouveler lâ€™expÃ©r
 ience en dÃ©couvrant et intÃ©grant Ã  chaque fois davantage les pratiq
 ues. Des journÃ©es et stages dâ€™approfondissement de pratique en marc
 he consciente, marche afghane, apprentissage de la marche avec des bÃ¢
 tons et autres ont lieu par ailleurs.\nInscription par mail :\ndaniloz
 anin8888@gmail.com\ntel:0662379588\nwww.marche-consciente.com\nwww.mar
 che-afghane.com\nen attendant de marcher avec moi vous pouvez dÃ©jÃ  l
 ire et pratiquer leÂ contenu de mon livre Je marche donc je suis aux Ã
 ©ditions Mango.\nFruit de 40 ans d'exploration deÂ laÂ marche et de la
  pleineÂ conscience il y aussi desÂ liens vidÃ©osÂ pour mieux apprÃ©he
 nder certainesÂ pratiques !\nPourÂ commanderÂ leÂ livre,il est sur Ama
 zon et la FNAC mais privilÃ©giez plutÃ´t lesÂ librairiesÂ  :\nTitre :\
 nJE MARCHE DONC JE SUIS\nAuteur :\nDANILO ZANIN\nSi jamais une personn
 e ne le trouve pas dans sa librairie, elle peut aussi demander au libr
 aire de leÂ commanderÂ en lui donnant la rÃ©fÃ©rence de lâ€™ISBN de lâ
 €™ouvrage : 9782317017780.Â \n\n\n\n\n\n\n\n\n\nPour plus d'informatio
 n, aller sur https://epanews.fr/events/journ-e-d-initiation-la-marche-
 consciente-et-la-marche-afghane-2
DTSTART;TZID=Europe/Paris:20180506T000000
DTEND;TZID=Europe/Paris:20180506T235900
CATEGORIES:73
LOCATION:ST Alban Leysse
WEBSITE:
URL:
CONTACT:0662379588
ORGANIZER;CN="daniel zanin":https://epanews.fr/profile/danielzanin
ATTACH;FMTTYPE="image/jpeg":http://storage.ning.com/topology/rest/1.0/
 file/get/1663722645?profile=original
ATTENDEE;ROLE=REQ-PARTICIPANT;PARTSTAT=ACCEPTED;RSVP=TRUE;CN="daniel z
 anin":https://epanews.fr/profile/danielzanin
END:VEVENT
END:VCALENDAR
