BEGIN:VCALENDAR
PRODID:NingEventWidget-v1
VERSION:2.0
METHOD:PUBLISH
BEGIN:VTIMEZONE
TZID:Europe/Paris
X-LIC-LOCATION:Europe/Paris
BEGIN:DAYLIGHT
TZOFFSETFROM:+0100
TZOFFSETTO:+0200
TZNAME:CEST
DTSTART:19700329T020000
RRULE:FREQ=YEARLY;BYMONTH=3;BYDAY=-1SU
END:DAYLIGHT
BEGIN:STANDARD
TZOFFSETFROM:+0200
TZOFFSETTO:+0100
TZNAME:CET
DTSTART:19701025T030000
RRULE:FREQ=YEARLY;BYMONTH=10;BYDAY=-1SU
END:STANDARD
END:VTIMEZONE
BEGIN:VEVENT
UID:2485226:Event:2601790
DTSTAMP:20260421T171943Z
SUMMARY:JournÃ©e dÃ©couverte Sophrologie- MÃ©ditation- Yoganidra
DESCRIPTION:Jeudi 14 JUILLET 10h30 - 18h\nJOURNEE DECOUVERTE Un cours 
 adaptÃ© Ã  votre besoin de mieux-Ãªtre\nAU CHOIX :Â \n10h30-12h : Â Â 
 Â  MÃ©ditation Pleine Conscience :Â Rester prÃ©sent, attentif, Ã©veill
 Ã© ; instant aprÃ¨s instant.\n12h30- 14h : Â  Sophro-Relaxation : Soph
 rologie debout- Relaxation allongÃ©e.\n14h30-16h : Â Â   MÃ©ditation P
 leine Conscience : Rester prÃ©sent, attentif, Ã©veillÃ© ; instant aprÃ
 ¨s instant.\n16h30 - 18h :  Yoga Nidra : Relaxation mÃ©ditative profon
 de, sans postures.  Tarif : 12â‚¬ l'atelier d'1h30. S'inscrire selon v
 otre choix.\nS'inscrire par mail pour participer Ã  un de ces coursÂ d
 ans le 75002 : christianebeauge@gmail.com\nContacter Christiane BeaugÃ
 ©, sophrologue et relaxologue, enseignante MBSR MÃ©ditation Pleine Con
 science.\n\nPour plus d'information, aller sur https://epanews.fr/even
 ts/journ-e-d-couverte-sophrologie-m-ditation-yoganidra-1
DTSTART;TZID=Europe/Paris:20160714T103000
DTEND;TZID=Europe/Paris:20160714T180000
CATEGORIES:75
LOCATION:Paris 75002
WEBSITE:http://www.sophrologie-relaxation75.com
URL:http://www.sophrologie-relaxation75.com
CONTACT:06 70 49 32 38 - 01 44 61 74 59
ORGANIZER;CN="Christiane BeaugÃ©":https://epanews.fr/profile/Christian
 eBeauge
ATTACH;FMTTYPE="image/jpeg":http://storage.ning.com/topology/rest/1.0/
 file/get/1663262651?profile=original
ATTENDEE;ROLE=REQ-PARTICIPANT;PARTSTAT=ACCEPTED;RSVP=TRUE;CN="Christia
 ne BeaugÃ©":https://epanews.fr/profile/ChristianeBeauge
END:VEVENT
END:VCALENDAR
