BEGIN:VCALENDAR
PRODID:NingEventWidget-v1
VERSION:2.0
METHOD:PUBLISH
BEGIN:VTIMEZONE
TZID:Europe/Paris
X-LIC-LOCATION:Europe/Paris
BEGIN:DAYLIGHT
TZOFFSETFROM:+0100
TZOFFSETTO:+0200
TZNAME:CEST
DTSTART:19700329T020000
RRULE:FREQ=YEARLY;BYMONTH=3;BYDAY=-1SU
END:DAYLIGHT
BEGIN:STANDARD
TZOFFSETFROM:+0200
TZOFFSETTO:+0100
TZNAME:CET
DTSTART:19701025T030000
RRULE:FREQ=YEARLY;BYMONTH=10;BYDAY=-1SU
END:STANDARD
END:VTIMEZONE
BEGIN:VEVENT
UID:2485226:Event:2171175
DTSTAMP:20260422T205017Z
SUMMARY:Journée découverte Processus Corporels d'Access Consciousnes
 s
DESCRIPTION:Janique Véla et Dominique Rittimann vous proposent de dé
 couvrir :\nJeudi 15 janvier de 10 heures à 18 heures au Liberthé à 
 Toulon\nLes Processus Corporels d'Access Consciousness ont spécifi
 quement été développés pour vous permettre de retrouver plus d'ais
 ance dans votre corps.\nGary Douglas et le Dr. Dain Heer, ont découve
 rt différents processus qui vont s'adresser à divers niveaux physiqu
 es pour permettre au corps de retrouver le chemin vers ce qu'il devrai
 t être réellement : un outil vibrant de vie pour vous permettre de f
 aire l'expérience de la vie sur cette terre dans la joie et l'exubér
 ance.\nParmi ces Processus Corporels d'Access Consciousness, il en ex
 iste des spécifiques (éliminer les traumas, renforcement du système
  immunitaire, permettre aux cellules de retrouver leur fonctionnement 
 normal et parfait, etc.) qui peuvent être utilisés seuls ou conjoint
 ement selon les besoins exprimés par la personne qui consulte.\nComme
  dans tout processus énergétique, aucun résultat ne peut être gara
 nti mais de nombreuses personnes ont fait l'expérience de changements
  importants pour des situations aussi diverses que :\n - manque de vit
 alité\n- inflammations chroniques\n- douleurs post-opératoires\n- al
 lergies\n- cancers\n- dérèglements hormonaux\n- problèmes de fertil
 ité\n- maladies chroniques\n- débarrasser le corps de réflexes erro
 nés (réactivation de certaines sensations liées à des traumas ou d
 es abus) - etc.\nIl n'y a pas de limite à ce que ces Processus Corpo
 rel d'Access Consciousness peuvent changer en vous et votre corps. L
 a seule limite est celle que vous pouvez lui imposer ! Et comme nous s
 ommes passés maîtres dans l'art de nous limiter, selon les pathologi
 es, plusieurs séances peuvent s'avérer nécessaires pour induire le 
 changement souhaité.\nTarif spécial journée découverte : 30€ po
 ur 30 minutes\n(Pour cette journée les séances seront  réalisées 
 en binôme, nous travaillerons toutes les deux sur vous)\nTarif normal
  70€\n Pensez à réserver votre place rapidement ! \nDominique R
 ittimann : 0698566297 \nJanique Véla : 0626292237\nPlus d'infos sur 
 : www.bien-etre-shiatsu.fr\n\nPour plus d'information, aller sur https
 ://epanews.fr/events/journ-e-d-couverte-processus-corporels-d-access-c
 onsciousness
DTSTART;TZID=Europe/Paris:20150115T100000
DTEND;TZID=Europe/Paris:20150115T180000
CATEGORIES:83
LOCATION:Toulon
WEBSITE:
URL:
CONTACT:0698566297
ORGANIZER;CN="Dominique Rittimann":https://epanews.fr/profile/Dominiqu
 eR
ATTACH;FMTTYPE="image/jpeg":http://storage.ning.com/topology/rest/1.0/
 file/get/1663294998?profile=original
ATTENDEE;ROLE=REQ-PARTICIPANT;PARTSTAT=ACCEPTED;RSVP=TRUE;CN="Dominiqu
 e Rittimann":https://epanews.fr/profile/DominiqueR
END:VEVENT
END:VCALENDAR
