BEGIN:VCALENDAR
PRODID:NingEventWidget-v1
VERSION:2.0
METHOD:PUBLISH
BEGIN:VTIMEZONE
TZID:Europe/Paris
X-LIC-LOCATION:Europe/Paris
BEGIN:DAYLIGHT
TZOFFSETFROM:+0100
TZOFFSETTO:+0200
TZNAME:CEST
DTSTART:19700329T020000
RRULE:FREQ=YEARLY;BYMONTH=3;BYDAY=-1SU
END:DAYLIGHT
BEGIN:STANDARD
TZOFFSETFROM:+0200
TZOFFSETTO:+0100
TZNAME:CET
DTSTART:19701025T030000
RRULE:FREQ=YEARLY;BYMONTH=10;BYDAY=-1SU
END:STANDARD
END:VTIMEZONE
BEGIN:VEVENT
UID:2485226:Event:2685224
DTSTAMP:20260422T080719Z
SUMMARY:JournÃ©e Ã©changes et partages entre hommes
DESCRIPTION:Â  JournÃ©e entre hommes\n10 hommes nombre de places limit
 Ã©\nÂ  leÂ lundi 24 octobreÂ Â deÂ  9h30 Ã  17h\nPossibilitÃ© dâ€™hÃ©b
 ergement sur place\n120â‚¬ la journÃ©e\nÂ Tarif dÃ©gressif de 60â‚¬ Ã 
  28â‚¬ pour la chambre partagÃ©e avec petit dÃ©jeuner.\nL'art de la re
 ncontre Ã©nergÃ©tique au masculin, en maison d'hÃ´te et en ÃŽle-de-Fra
 nce\nRessourcez votre corps, votre esprit et votre crÃ©ativitÃ© dans l
 e cadre d'un hÃ©bergement rÃ©sidentiel Ã  \"La RÃ©sidence d'Art\" Ã  J
 oinville-le-Pont.\nÂ Votre accueil se fera Ã  partir de 8h30 Ã  la RÃ©
 sidence d'Art.\nVous pouvez aussi loger sur place la veille ou le soir
  mÃªme.\nÂ Vous aurez comme programme :Â \n-Â  Â de la mÃ©ditation act
 ive,\nÂ -Â  du temps de parole partagÃ©e,\nÂ -Â  des massages,\nÂ -Â  
 des thÃ©rapies psycho corporelles.\n-Â Â  Un travail respiratoire et p
 hysique\nÂ Le travail en commun portera sur lâ€™Ã©change, le partage, 
 lâ€™Ã©coute, la mÃ©ditation en groupe, le mouvement initiÃ© ensemble, 
 lâ€™Ã©nergÃ©tique, le massage, la crÃ©ativitÃ©.\nÂ Nous serons rÃ©unis
  autour d'un travail sur soi,Â Ã  l'Ã©couteÂ pour faciliter le contact
  et la rencontre avec soi comme avec les autres.\nÂ Tout questionnemen
 t dâ€™homme sera abordÃ© librement et sans jugement de la part de chac
 un.\nÂ Ce sera une rencontre ciblÃ©e autour du contact et du partage, 
 avec des Ã©changes, de l'Ã©coute et de la bienveillance, avec pour thÃ
 ¨me la sensualitÃ© et le respect de soi et des autres.\nÂ Le temps dâ€
 ™une respiration profitez des plaisirs du partage dans un lieu paisibl
 e vert et accueillant.\nÂ C'est une dÃ©couverte initiatique dans le re
 spect de soi et de chacun.\nUn seul tÃ©lÃ©phone, pour que vous soyez i
 nformÃ© de plus de dÃ©tails et des tarifs, ainsi que pour rÃ©server vo
 tre place :\nÂ Â  06 08 98 92 84\nÂ Â Â Ou par email : residencedart@g
 mail.com\nÂ Â  Adresse postale :\nLa RÃ©sidence dâ€™Art, 12 rue Aristi
 de Briand 94340 Joinville-le-Pont\nÂ Session conÃ§ue et dirigÃ©e par A
 lexis, thÃ©rapeute crÃ©ateur coach.\nSon expÃ©rience Ã  la fois pÃ©dag
 ogique et en crÃ©ation lui vient de quarante annÃ©es dâ€™expÃ©rience e
 t de recherche et son dÃ©sir de partager et de transmettre reste intac
 te et puissant.\nVous repartez sereins nourris et grandis de plaisir e
 t de nouvelles envies Ã  faire Ã©clore.\nPour sâ€™inscrire Â La RÃ©sid
 ence dâ€™Art\nJoinville le pontÂ  94340Â Â Â  06 08 98 92 84Â Â Â Â Â 
 Â Â Â Â  residencedart@gmail.com\nIl vous sera demandÃ© un engagement 
 financier dâ€™un minimum deÂ 60â‚¬ sous forme dâ€™acompte au plus tard
  une semaine avant la journÃ©e. N'attendez pas qu'il n'y ait plus de p
 lace disponible pour rÃ©server la vÃ´tre.\nPaiement possible par virem
 ent, par Paypal ou par carte bancaire ou espÃ¨ces.\nPrÃ©cisez si vous 
 rÃ©glez uniquement la journÃ©e ou une nuit ou deux en plus, la prÃ©cÃ©
 dente ou la suivante.\nÂ Si vous souhaitez en savoir plus vous pouvez 
 aussi vous inscrire Ã  la sÃ©ance de prÃ©sentation duÂ jeudi 06 octobr
 e Ã Â 18h.\nhttp://massages-alexis-94.webnode.fr/\n\nPour plus d'infor
 mation, aller sur https://epanews.fr/events/journ-e-changes-et-partage
 s-entre-hommes
DTSTART;TZID=Europe/Paris:20161024T093000
DTEND;TZID=Europe/Paris:20161024T170000
CATEGORIES:94
LOCATION:joinville le pont
WEBSITE:
URL:
CONTACT:0608989284
ORGANIZER;CN=Alexis:https://epanews.fr/profile/Alexis
ATTACH;FMTTYPE="image/jpeg":http://storage.ning.com/topology/rest/1.0/
 file/get/1663590723?profile=original
ATTENDEE;ROLE=REQ-PARTICIPANT;PARTSTAT=ACCEPTED;RSVP=TRUE;CN=Alexis:ht
 tps://epanews.fr/profile/Alexis
END:VEVENT
END:VCALENDAR
