BEGIN:VCALENDAR
PRODID:NingEventWidget-v1
VERSION:2.0
METHOD:PUBLISH
BEGIN:VTIMEZONE
TZID:Europe/Paris
X-LIC-LOCATION:Europe/Paris
BEGIN:DAYLIGHT
TZOFFSETFROM:+0100
TZOFFSETTO:+0200
TZNAME:CEST
DTSTART:19700329T020000
RRULE:FREQ=YEARLY;BYMONTH=3;BYDAY=-1SU
END:DAYLIGHT
BEGIN:STANDARD
TZOFFSETFROM:+0200
TZOFFSETTO:+0100
TZNAME:CET
DTSTART:19701025T030000
RRULE:FREQ=YEARLY;BYMONTH=10;BYDAY=-1SU
END:STANDARD
END:VTIMEZONE
BEGIN:VEVENT
UID:2485226:Event:2835724
DTSTAMP:20260420T165249Z
SUMMARY:Modification demandée
DESCRIPTION: Devenez Praticien Access Bars en 1 journée.\nVous vous 
 approprierez la technique des Bars, et vous recevrez un manuel explica
 tif.\nPrix:270€ par adulte, 135€ pour les jeunes de 16 et 17 ans, 
 gratuit pour les enfants.\nAu plaisir de vous rencontrer\nAnne\n\nPour
  plus d'information, aller sur https://epanews.fr/events/journ-e-certi
 fiante-de-praticien-access-consciousness-les-bars
DTSTART;TZID=Europe/Paris:20170617T000000
DTEND;TZID=Europe/Paris:20170617T235900
CATEGORIES:luxembourg
LOCATION:Luxembourg
WEBSITE:
URL:
CONTACT:06 66 60 54 00
ORGANIZER;CN=Anne:https://epanews.fr/profile/Anne689
ATTACH;FMTTYPE="image/jpeg":
ATTENDEE;ROLE=REQ-PARTICIPANT;PARTSTAT=ACCEPTED;RSVP=TRUE;CN=Anne:http
 s://epanews.fr/profile/Anne689
END:VEVENT
END:VCALENDAR
