BEGIN:VCALENDAR
PRODID:NingEventWidget-v1
VERSION:2.0
METHOD:PUBLISH
BEGIN:VTIMEZONE
TZID:Europe/Paris
X-LIC-LOCATION:Europe/Paris
BEGIN:DAYLIGHT
TZOFFSETFROM:+0100
TZOFFSETTO:+0200
TZNAME:CEST
DTSTART:19700329T020000
RRULE:FREQ=YEARLY;BYMONTH=3;BYDAY=-1SU
END:DAYLIGHT
BEGIN:STANDARD
TZOFFSETFROM:+0200
TZOFFSETTO:+0100
TZNAME:CET
DTSTART:19701025T030000
RRULE:FREQ=YEARLY;BYMONTH=10;BYDAY=-1SU
END:STANDARD
END:VTIMEZONE
BEGIN:VEVENT
UID:2485226:Event:874297
DTSTAMP:20260421T170911Z
SUMMARY:Journée célébration de l'été
DESCRIPTION:Cliquer sur ce lien c'est plus joli :-)\nwww.isabelle-ferc
 haud.fr\nLa célébration de l'été, c'est se relier au soleil, à la
  lumière, à l'abondance des fruits mûrs, c'est l'occasion de se met
 tre \"à nu\" pour s'aimer sans artifices.  L'adoration du soleil nous
  recentre sur notre soleil intérieur. Tout se simplifie, se clarifie,
  les croyances volent en éclat. Aucune perversion mentale ne supporte
  le feu solaire d'une conscience qui s'éveille à son propre rayonnem
 ent.  Viendrez-vous participer à cette libération ?\nPrix de base : 
 60 Euros (si difficulté financière téléphonez-moi et nous ajustero
 ns le prix ensemble)  AU PROGRAMME : Tous mes stages vous emmènent da
 ns l'expérience tantrique d'être soi et relié à la nature.  Marche
  silencieuse sensorielle : passer d'une activité mentale à une activ
 ité sensorielle.  Sensibilisation au souffle : retrouver le sens olfa
 ctif de l'animal.  Repas : apporter un pique-nique.  Célébration : r
 ituel créé pour ce jour, méditation, jeux.  Danse tantrique (médit
 ative)  Cercle de paroles.\nINSCRIPTIONS : par téléphone ou par e-ma
 il. Un rendez-vous sera fixé avec les inscrits. Un co-voiturage pourr
 a être organisé.  Matériel à emporter :  Sac à dos, natte isolant
 e pour s'allonger sur le sol, pique-nique, eau, chaussures de marche, 
 maillot de bain, serviette, vêtements en fonction de la météo (cepe
 ndant toujours prévoir un coupe-vent et chapeau), fruits pour le ritu
 el.\n\nPour plus d'information, aller sur https://epanews.fr/events/jo
 urn-e-c-l-bration-de-l-t
DTSTART;TZID=Europe/Paris:20120804T000000
DTEND;TZID=Europe/Paris:20120804T235900
CATEGORIES:33
LOCATION:dans la forêt et au bord de l'océan
WEBSITE:http://www.isabelle-ferchaud.fr/article-jouhttp://www.isabelle
 -ferchaud.fr/article-journee-celebration-de-l-ete-samedi-4-aout-2012-1
 07858460.htmlrnee-celebration-de-l-ete-samedi-7-juillet-2012-107431292
 .html
URL:http://www.isabelle-ferchaud.fr/article-jouhttp://www.isabelle-fer
 chaud.fr/article-journee-celebration-de-l-ete-samedi-4-aout-2012-10785
 8460.htmlrnee-celebration-de-l-ete-samedi-7-juillet-2012-107431292.htm
 l
CONTACT:06 87 88 25 58
ORGANIZER;CN="Isabelle FERCHAUD":https://epanews.fr/profile/IsabelleFE
 RCHAUD
ATTACH;FMTTYPE="image/jpeg":http://storage.ning.com/topology/rest/1.0/
 file/get/1662630388?profile=original
ATTENDEE;ROLE=REQ-PARTICIPANT;PARTSTAT=ACCEPTED;RSVP=TRUE;CN="Isabelle
  FERCHAUD":https://epanews.fr/profile/IsabelleFERCHAUD
END:VEVENT
END:VCALENDAR
