BEGIN:VCALENDAR
PRODID:NingEventWidget-v1
VERSION:2.0
METHOD:PUBLISH
BEGIN:VTIMEZONE
TZID:Europe/Paris
X-LIC-LOCATION:Europe/Paris
BEGIN:DAYLIGHT
TZOFFSETFROM:+0100
TZOFFSETTO:+0200
TZNAME:CEST
DTSTART:19700329T020000
RRULE:FREQ=YEARLY;BYMONTH=3;BYDAY=-1SU
END:DAYLIGHT
BEGIN:STANDARD
TZOFFSETFROM:+0200
TZOFFSETTO:+0100
TZNAME:CET
DTSTART:19701025T030000
RRULE:FREQ=YEARLY;BYMONTH=10;BYDAY=-1SU
END:STANDARD
END:VTIMEZONE
BEGIN:VEVENT
UID:2485226:Event:645287
DTSTAMP:20260424T213927Z
SUMMARY:Journée Bien-être
DESCRIPTION:\"Journée Bien-Etre\"\nSamedi 21 Janvier 2012 de 10h00 à
  18h00\nEnvie de trouver un rythme plus zen et des activités qui vous
  correspondent, pour cette nouvelle année ?\nS'essayer à divers cour
 s, séances individuelles et ateliers à \"prix mini\" c'est possible.
 ..Venez vous imprégner de joie et de sérénité pour 2012 et trouver
  des activités qui vous correspondent grâce à La “Journée du Bie
 n-être”. Vous vous initierez et/ou retrouverez diverses méthodes 
 pour vous relaxer et prendre soin de vous .Toute l’équipe vous atte
 nd pour cette journée entièrement dédiée au bien-être.Pour 15€ 
 (10€ pour les Adhérents à l'Association et les Pradéens) profitez
  de votre pass découverte bien-être (soit 5 ateliers collectifs et 2
  individuels) ainsi que d' une pause gourmande bio pour le plaisir de 
 tous vos sens.\n(Au programme: danse, yoga, massages-bien-être du mon
 de, feng-shui, art-thérapie, taï-chi, méditation...).\n\nPour plus 
 d'information, aller sur https://epanews.fr/events/journ-e-bien-tre
DTSTART;TZID=Europe/Paris:20120121T000000
DTEND;TZID=Europe/Paris:20120121T235900
CATEGORIES:34
LOCATION:Montpellier
WEBSITE:http://www.laquetedelange.org
URL:http://www.laquetedelange.org
CONTACT:09.53.20.37.38 ou 06.15.43.45.78
ORGANIZER:La Quête de l'Ange
ATTACH;FMTTYPE="image/jpeg":http://storage.ning.com/topology/rest/1.0/
 file/get/1662531109?profile=original
ATTENDEE;ROLE=REQ-PARTICIPANT;PARTSTAT=ACCEPTED;RSVP=TRUE;CN="Mary Har
 te":https://epanews.fr/profile/MaryHarte
ATTENDEE;ROLE=REQ-PARTICIPANT;PARTSTAT=TENTATIVE;RSVP=TRUE;CN="Alice V
 errier":https://epanews.fr/profile/VERRIER
END:VEVENT
END:VCALENDAR
