BEGIN:VCALENDAR
PRODID:NingEventWidget-v1
VERSION:2.0
METHOD:PUBLISH
BEGIN:VTIMEZONE
TZID:Europe/Paris
X-LIC-LOCATION:Europe/Paris
BEGIN:DAYLIGHT
TZOFFSETFROM:+0100
TZOFFSETTO:+0200
TZNAME:CEST
DTSTART:19700329T020000
RRULE:FREQ=YEARLY;BYMONTH=3;BYDAY=-1SU
END:DAYLIGHT
BEGIN:STANDARD
TZOFFSETFROM:+0200
TZOFFSETTO:+0100
TZNAME:CET
DTSTART:19701025T030000
RRULE:FREQ=YEARLY;BYMONTH=10;BYDAY=-1SU
END:STANDARD
END:VTIMEZONE
BEGIN:VEVENT
UID:2485226:Event:3083828
DTSTAMP:20260423T190735Z
SUMMARY:Journée bien être et ressourcement à Sanary le dim 25 oct
DESCRIPTION:Une journée dédiée au bien être et au ressourcement av
 ec la paticipation de 5 intervenants :\n- Yoga\n- Méditation de plein
 e conscience\n- Méditation Active\n- Massages & Soins énergétiques\
 nParticipation : 75 eur, repas végétarien inclu\nPlaces limitées ..
 . réservation : Denis 0633265658\n\nPour plus d'information, aller su
 r https://epanews.fr/events/journ-e-bien-tre-amp-ressourcement
DTSTART;TZID=Europe/Paris:20201025T093000
DTEND;TZID=Europe/Paris:20201025T173000
CATEGORIES:83
LOCATION:Sanary sur mer
WEBSITE:http://nathaliebruzac.fr/index.php/evenements/
URL:http://nathaliebruzac.fr/index.php/evenements/
CONTACT:0633265658
ORGANIZER;CN=Denis:https://epanews.fr/profile/Denis
ATTACH;FMTTYPE="image/jpeg":https://storage.ning.com/topology/rest/1.0
 /file/get/8032745093?profile=original
ATTENDEE;ROLE=REQ-PARTICIPANT;PARTSTAT=ACCEPTED;RSVP=TRUE;CN=Denis:htt
 ps://epanews.fr/profile/Denis
END:VEVENT
END:VCALENDAR
