BEGIN:VCALENDAR
PRODID:NingEventWidget-v1
VERSION:2.0
METHOD:PUBLISH
BEGIN:VTIMEZONE
TZID:Europe/Paris
X-LIC-LOCATION:Europe/Paris
BEGIN:DAYLIGHT
TZOFFSETFROM:+0100
TZOFFSETTO:+0200
TZNAME:CEST
DTSTART:19700329T020000
RRULE:FREQ=YEARLY;BYMONTH=3;BYDAY=-1SU
END:DAYLIGHT
BEGIN:STANDARD
TZOFFSETFROM:+0200
TZOFFSETTO:+0100
TZNAME:CET
DTSTART:19701025T030000
RRULE:FREQ=YEARLY;BYMONTH=10;BYDAY=-1SU
END:STANDARD
END:VTIMEZONE
BEGIN:VEVENT
UID:2485226:Event:2085854
DTSTAMP:20260423T070335Z
SUMMARY:JournÃ©e \"Balade botanique et plantes comestibles\", lundi 24
  novembre 2014, prÃ¨s de Nice (Alpes-Maritimes)
DESCRIPTION:Balade botanique toute la journÃ©e, en extÃ©rieur.\nLundi 
 24 novembre 2014 prÃ¨s de Nice (06).\nJournÃ©e confirmÃ©e (selon mÃ©tÃ
 ©o).\nFormatrice/formateur : Ã‰ric Escoffier (http://permaculture-sans
 -frontieres.org/eric-escoffier) et, sous rÃ©serve de confirmation, Syl
 vaine Anani (http://permaculture-sans-frontieres.org/sylvaine-anani).\
 n\nPrix : 35 â‚¬ la journÃ©e + 5 â‚¬ d'adhÃ©sion annuelle Ã  l'associa
 tion si vous n'Ãªtes pas adhÃ©rent. 20 â‚¬ pour les personnes qui auro
 nt suivi les 11 jours de la formation prÃ©cÃ©dente du mercredi 12 au d
 imanche 23 novembre (voir www.epanews.fr/events/formation-permaculture
 -et-syst-mes-de-culture-r-g-n-ratifs-pr-s).\nToutes les infos pratique
 s sont dans notre calendrier sur : permaculture-sans-frontieres.org/ca
 lendrier-formations\n_ _ _Â \nOrganisation : par l'association \"Les M
 ains Sages - Permaculture\".\n_ _ _\nAttention, photo NON-REPRÃ‰SENTAT
 IVE de l'Ã©vÃ©nement !! :)\n_ _ _Â \n\nAUSSI SUR FACEBOOK :\n* JournÃ©
 e \"Balade botanique et plantes sauvages comestibles\" le lundi 24/11 
 prÃ¨s de Carros (Alpes-Maritimes) :Â www.facebook.com/events/898871270
 131749\n* JournÃ©e \"Sensibilisation aux problÃ©matiques de survie : b
 ases contextuelles et thÃ©oriques + divers ateliers\" le 25/11, prÃ¨s 
 de Nice (Alpes-Maritimes)Â www.facebook.com/events/374834292666407\n\n
 Pour plus d'information, aller sur https://epanews.fr/events/journ-e-b
 alade-botanique-et-plantes-comestibles-lundi-24-novembre
DTSTART;TZID=Europe/Paris:20141124T090000
DTEND;TZID=Europe/Paris:20141124T183000
CATEGORIES:06
LOCATION:RÃ©gion de Carros (06510), prÃ¨s de Nice, Alpes-Maritimes.
WEBSITE:http://permaculture-sans-frontieres.org
URL:http://permaculture-sans-frontieres.org
CONTACT:
ORGANIZER;CN="Eric Escoffier - Permaculture":https://epanews.fr/profil
 e/EricEscoffierPermaculture
ATTACH;FMTTYPE="image/jpeg":http://storage.ning.com/topology/rest/1.0/
 file/get/1663232848?profile=original
ATTENDEE;ROLE=REQ-PARTICIPANT;PARTSTAT=ACCEPTED;RSVP=TRUE;CN="Eric Esc
 offier - Permaculture":https://epanews.fr/profile/EricEscoffierPermacu
 lture
END:VEVENT
END:VCALENDAR
