BEGIN:VCALENDAR
PRODID:NingEventWidget-v1
VERSION:2.0
METHOD:PUBLISH
BEGIN:VTIMEZONE
TZID:Europe/Paris
X-LIC-LOCATION:Europe/Paris
BEGIN:DAYLIGHT
TZOFFSETFROM:+0100
TZOFFSETTO:+0200
TZNAME:CEST
DTSTART:19700329T020000
RRULE:FREQ=YEARLY;BYMONTH=3;BYDAY=-1SU
END:DAYLIGHT
BEGIN:STANDARD
TZOFFSETFROM:+0200
TZOFFSETTO:+0100
TZNAME:CET
DTSTART:19701025T030000
RRULE:FREQ=YEARLY;BYMONTH=10;BYDAY=-1SU
END:STANDARD
END:VTIMEZONE
BEGIN:VEVENT
UID:2485226:Event:2787709
DTSTAMP:20260422T204019Z
SUMMARY:Jeudi 27 février 2017 à 20 h à Avignon Conférence donnée 
 par Armelle Six  et Nans Thomassey.
DESCRIPTION:\"SOYEZ LA !!! JEUDI 23 FÉVRIER 2017 A 20 H A AVIGNON pou
 r la CONFÉRENCE donnée par ARMELLE SIX  et Nans THOMASSEY.\nUn vrai
  message de vie et d'espoir pour soutenir le filmhttps://www.youtube.c
 om/watch?v=4HumhcwmoOM de Nans THOMASSEY et Damien BOYER.\n\nPour plu
 s d'information, aller sur https://epanews.fr/events/jeudi-27-f-vrier-
 2017-20-h-avignon-conf-rence-donn-e-par-armelle
DTSTART;TZID=Europe/Paris:20170227T200000
DTEND;TZID=Europe/Paris:20170227T220000
CATEGORIES:84
LOCATION:MAIRIE D'AVIGNON
WEBSITE:https://www.google.fr/maps/uv?hl=fr&pb=!1s0x12b5eb85d8596ff9:0
 x32485bc0fc4ed53b!2m19!2m2!1i80!2i80!3m1!2i20!16m13!1b1!2m2!1m1!1e1!2m
 2!1m1!1e3!2m2!1m1!1e5!2m2!1m1!1e4!3m1!7e115!4shttps://ssl.panoramio.co
 m/photo/133551980!5s+-+Recherche+Google&imagekey=!1e4!2s133551980
URL:https://www.google.fr/maps/uv?hl=fr&pb=!1s0x12b5eb85d8596ff9:0x324
 85bc0fc4ed53b!2m19!2m2!1i80!2i80!3m1!2i20!16m13!1b1!2m2!1m1!1e1!2m2!1m
 1!1e3!2m2!1m1!1e5!2m2!1m1!1e4!3m1!7e115!4shttps://ssl.panoramio.com/ph
 oto/133551980!5s+-+Recherche+Google&imagekey=!1e4!2s133551980
CONTACT:
ORGANIZER;CN="YVES JEAN MICHEL":https://epanews.fr/profile/YVESJEANMIC
 HEL
ATTACH;FMTTYPE="image/jpeg":http://storage.ning.com/topology/rest/1.0/
 file/get/1663640801?profile=original
ATTENDEE;ROLE=REQ-PARTICIPANT;PARTSTAT=ACCEPTED;RSVP=TRUE;CN="YVES JEA
 N MICHEL":https://epanews.fr/profile/YVESJEANMICHEL
END:VEVENT
END:VCALENDAR
